Workbook

Sheet SAŽETAK
A1: PRIJEDLOG FINANCIJSKOG PLANA OSNOVNE ŠKOLE MARINA GETALDIĆA ZA 2027. I PROJEKCIJA ZA 2028. I 2029. GODINU
A3: I. OPĆI DIO
A5: A) SAŽETAK RAČUNA PRIHODA I RASHODA
J6: EUR
F7: Izvršenje 2025. | G7: Plan 2026. | H7: Plan za 2027. | I7: Projekcija za 2028. | J7: Projekcija za 2029.
A8: PRIHODI UKUPNO | F8: =F9+F10 -> 1588836.1 | G8: =G9+G10 -> 1973470 | H8: =H9+H10 -> 2120850 | I8: =I9+I10 -> 1870850 | J8: =J9+J10 -> 1870850
A9: 6 PRIHODI POSLOVANJA | F9: =' Račun prihoda i rashoda'!D11 -> 1588809.5 | G9: =' Račun prihoda i rashoda'!E11 -> 1973380 | H9: =' Račun prihoda i rashoda'!F11 -> 2120760 | I9: =' Račun prihoda i rashoda'!G11 -> 1870760 | J9: =' Račun prihoda i rashoda'!H11 -> 1870760
A10: 7 PRIHODI OD PRODAJE NEFINANCIJSKE IMOVINE | F10: =' Račun prihoda i rashoda'!D17 -> 26.64 | G10: =' Račun prihoda i rashoda'!E17 -> 90 | H10: =' Račun prihoda i rashoda'!F17 -> 90 | I10: =' Račun prihoda i rashoda'!G17 -> 90 | J10: =' Račun prihoda i rashoda'!H17 -> 90
A11: RASHODI UKUPNO | F11: =F12+F13 -> 1714116 | G11: =G12+G13 -> 1973470 | H11: =H12+H13 -> 2120850 | I11: =I12+I13 -> 1870850 | J11: =J12+J13 -> 1870850
A12: 3 RASHODI POSLOVANJA | F12: =' Račun prihoda i rashoda'!D25 -> 1677586.2 | G12: =' Račun prihoda i rashoda'!E25 -> 1803710 | H12: =' Račun prihoda i rashoda'!F25 -> 1825090 | I12: =' Račun prihoda i rashoda'!G25 -> 1825090 | J12: =' Račun prihoda i rashoda'!H25 -> 1825090
A13: 4 RASHODI ZA NABAVU NEFINANCIJSKE IMOVINE | F13: =' Račun prihoda i rashoda'!D31 -> 36529.74 | G13: =' Račun prihoda i rashoda'!E31 -> 169760 | H13: =' Račun prihoda i rashoda'!F31 -> 295760 | I13: =' Račun prihoda i rashoda'!G31 -> 45760 | J13: =' Račun prihoda i rashoda'!H31 -> 45760
A14: RAZLIKA – VIŠAK / MANJAK | F14: =F8-F11 -> -125279.84 | G14: =G8-G11 -> 0 | H14: =H8-H11 -> 0 | I14: =I8-I11 -> 0 | J14: =J8-J11 -> 0
A17: C) PRENESENI VIŠAK ILI PRENESENI MANJAK
F19: Izvršenje 2025. | G19: Plan 2026. | H19: Plan za 2027. | I19: Projekcija za 2028. | J19: Projekcija za 2029.
A20: PRIJENOS VIŠKA / MANJKA IZ PRETHODNE(IH) GODINE | F20: 10228.22 | G20: 0 | H20: 0 | I20: 0 | J20: 0
A21: PRIJENOS VIŠKA / MANJKA U SLJEDEĆE RAZDOBLJE | F21: -115051.62 | G21: 0 | H21: 0 | I21: 0 | J21: 0
A22: VIŠAK / MANJAK + NETO FINANCIRANJE + PRIJENOS VIŠKA / MANJKA IZ PRETHODNE(IH) GODINE – PRIJENOS VIŠKA / MANJKA U SLJEDEĆE RAZDOBLJE | F22: =F14+F20-F21 -> 0 | G22: =G14+G20-G21 -> 0 | H22: =H14+H20-H21 -> 0 | I22: =I14+I20-I21 -> 0 | J22: =J14+J20-J21 -> 0
A24: * Izvršenje 2025. prema Izvještaju o izvršenju financijskog plana za 2025. Žuta polja (prijenos viška/manjka) popuniti prema bilanci / obrascu PR-RAS.

Sheet  Račun prihoda i rashoda
A1: PRIJEDLOG FINANCIJSKOG PLANA OSNOVNE ŠKOLE MARINA GETALDIĆA ZA 2027. I PROJEKCIJA ZA 2028. I 2029. GODINU
A3: I. OPĆI DIO
A5: A. RAČUN PRIHODA I RASHODA
A7: PRIHODI POSLOVANJA PREMA EKONOMSKOJ KLASIFIKACIJI
A10: Razred | B10: Skupina | C10: Naziv prihoda | D10: Izvršenje 2025. | E10: Plan 2026. | F10: Plan za 2027. | G10: Projekcija za 2028. | H10: Projekcija za 2029.
A11: 6 | C11: 6 Prihodi poslovanja | D11: =SUM(D12:D16) -> 1588809.5 | E11: =SUM(E12:E16) -> 1973380 | F11: =SUM(F12:F16) -> 2120760 | G11: =SUM(G12:G16) -> 1870760 | H11: =SUM(H12:H16) -> 1870760
B12: 63 | C12: 63 Pomoći iz inozemstva i od subjekata unutar općeg proračuna | D12: 1182960.2 | E12: 1378730 | F12: 1398800 | G12: =F12 -> 1398800 | H12: =G12 -> 1398800
B13: 64 | C13: 64 Prihodi od imovine | D13: 0.18 | E13: 10 | F13: 20010 | G13: =F13 -> 20010 | H13: =G13 -> 20010
B14: 65 | C14: 65 Prihodi od upravnih i administrativnih pristojbi, pristojbi po posebnim propisima i naknada | D14: 21837.1 | E14: 20000 | F14: 33000 | G14: =F14 -> 33000 | H14: =G14 -> 33000
B15: 66 | C15: 66 Prihodi od prodaje proizvoda i robe te pruženih usluga i prihodi od donacija | D15: 2147.5 | E15: 0 | F15: 5930 | G15: =F15 -> 5930 | H15: =G15 -> 5930
B16: 67 | C16: 67 Prihodi iz nadležnog proračuna i od HZZO-a temeljem ugovornih obveza | D16: 381864.55 | E16: 574640 | F16: 663020 | G16: =F16-SUMIFS('Podaci 5. razina'!$L$4:$L$140,'Podaci 5. razina'!$B$4:$B$140,"18057")+SUMIFS('Podaci 5. razina'!$M$4:$M$140,'Podaci 5. razina'!$B$4:$B$140,"18057") -> 413020 | H16: =G16-SUMIFS('Podaci 5. razina'!$M$4:$M$140,'Podaci 5. razina'!$B$4:$B$140,"18057")+SUMIFS('Podaci 5. razina'!$N$4:$N$140,'Podaci 5. razina'!$B$4:$B$140,"18057") -> 413020
A17: 7 | C17: 7 Prihodi od prodaje nefinancijske imovine | D17: =D18 -> 26.64 | E17: =E18 -> 90 | F17: =F18 -> 90 | G17: =G18 -> 90 | H17: =H18 -> 90
B18: 72 | C18: 72 Prihodi od prodaje proizvedene dugotrajne imovine | D18: 26.64 | E18: 90 | F18: 90 | G18: =F18 -> 90 | H18: =G18 -> 90
C19: PRIHODI UKUPNO | D19: =D11+D17 -> 1588836.1 | E19: =E11+E17 -> 1973470 | F19: =F11+F17 -> 2120850 | G19: =G11+G17 -> 1870850 | H19: =H11+H17 -> 1870850
A22: RASHODI POSLOVANJA PREMA EKONOMSKOJ KLASIFIKACIJI
A24: Razred | B24: Skupina | C24: Naziv rashoda | D24: Izvršenje 2025. | E24: Plan 2026. | F24: Plan za 2027. | G24: Projekcija za 2028. | H24: Projekcija za 2029.
A25: 3 | C25: 3 Rashodi poslovanja | D25: =SUM(D26:D30) -> 1677586.2 | E25: =SUM(E26:E30) -> 1803710 | F25: =SUM(F26:F30) -> 1825090 | G25: =SUM(G26:G30) -> 1825090 | H25: =SUM(H26:H30) -> 1825090
B26: 31 | C26: 31 Rashodi za zaposlene | D26: =SUMIFS('Podaci 5. razina'!$J$4:$J$140,'Podaci 5. razina'!$I$4:$I$140,"31") -> 1334783.5 | E26: =SUMIFS('Podaci 5. razina'!$K$4:$K$140,'Podaci 5. razina'!$I$4:$I$140,"31") -> 1422500 | F26: =SUMIFS('Podaci 5. razina'!$L$4:$L$140,'Podaci 5. razina'!$I$4:$I$140,"31") -> 1405100 | G26: =SUMIFS('Podaci 5. razina'!$M$4:$M$140,'Podaci 5. razina'!$I$4:$I$140,"31") -> 1405100 | H26: =SUMIFS('Podaci 5. razina'!$N$4:$N$140,'Podaci 5. razina'!$I$4:$I$140,"31") -> 1405100
B27: 32 | C27: 32 Materijalni rashodi | D27: =SUMIFS('Podaci 5. razina'!$J$4:$J$140,'Podaci 5. razina'!$I$4:$I$140,"32") -> 265551.79 | E27: =SUMIFS('Podaci 5. razina'!$K$4:$K$140,'Podaci 5. razina'!$I$4:$I$140,"32") -> 324980 | F27: =SUMIFS('Podaci 5. razina'!$L$4:$L$140,'Podaci 5. razina'!$I$4:$I$140,"32") -> 333760 | G27: =SUMIFS('Podaci 5. razina'!$M$4:$M$140,'Podaci 5. razina'!$I$4:$I$140,"32") -> 333760 | H27: =SUMIFS('Podaci 5. razina'!$N$4:$N$140,'Podaci 5. razina'!$I$4:$I$140,"32") -> 333760
B28: 34 | C28: 34 Financijski rashodi | D28: =SUMIFS('Podaci 5. razina'!$J$4:$J$140,'Podaci 5. razina'!$I$4:$I$140,"34") -> 500 | E28: =SUMIFS('Podaci 5. razina'!$K$4:$K$140,'Podaci 5. razina'!$I$4:$I$140,"34") -> 500 | F28: =SUMIFS('Podaci 5. razina'!$L$4:$L$140,'Podaci 5. razina'!$I$4:$I$140,"34") -> 500 | G28: =SUMIFS('Podaci 5. razina'!$M$4:$M$140,'Podaci 5. razina'!$I$4:$I$140,"34") -> 500 | H28: =SUMIFS('Podaci 5. razina'!$N$4:$N$140,'Podaci 5. razina'!$I$4:$I$140,"34") -> 500
B29: 37 | C29: 37 Naknade građanima i kućanstvima na temelju osiguranja i druge naknade | D29: =SUMIFS('Podaci 5. razina'!$J$4:$J$140,'Podaci 5. razina'!$I$4:$I$140,"37") -> 76003.95 | E29: =SUMIFS('Podaci 5. razina'!$K$4:$K$140,'Podaci 5. razina'!$I$4:$I$140,"37") -> 55000 | F29: =SUMIFS('Podaci 5. razina'!$L$4:$L$140,'Podaci 5. razina'!$I$4:$I$140,"37") -> 85000 | G29: =SUMIFS('Podaci 5. razina'!$M$4:$M$140,'Podaci 5. razina'!$I$4:$I$140,"37") -> 85000 | H29: =SUMIFS('Podaci 5. razina'!$N$4:$N$140,'Podaci 5. razina'!$I$4:$I$140,"37") -> 85000
B30: 38 | C30: 38 Ostali rashodi | D30: =SUMIFS('Podaci 5. razina'!$J$4:$J$140,'Podaci 5. razina'!$I$4:$I$140,"38") -> 746.99 | E30: =SUMIFS('Podaci 5. razina'!$K$4:$K$140,'Podaci 5. razina'!$I$4:$I$140,"38") -> 730 | F30: =SUMIFS('Podaci 5. razina'!$L$4:$L$140,'Podaci 5. razina'!$I$4:$I$140,"38") -> 730 | G30: =SUMIFS('Podaci 5. razina'!$M$4:$M$140,'Podaci 5. razina'!$I$4:$I$140,"38") -> 730 | H30: =SUMIFS('Podaci 5. razina'!$N$4:$N$140,'Podaci 5. razina'!$I$4:$I$140,"38") -> 730
A31: 4 | C31: 4 Rashodi za nabavu nefinancijske imovine | D31: =SUM(D32:D32) -> 36529.74 | E31: =SUM(E32:E32) -> 169760 | F31: =SUM(F32:F32) -> 295760 | G31: =SUM(G32:G32) -> 45760 | H31: =SUM(H32:H32) -> 45760
B32: 42 | C32: 42 Rashodi za nabavu proizvedene dugotrajne imovine | D32: =SUMIFS('Podaci 5. razina'!$J$4:$J$140,'Podaci 5. razina'!$I$4:$I$140,"42") -> 36529.74 | E32: =SUMIFS('Podaci 5. razina'!$K$4:$K$140,'Podaci 5. razina'!$I$4:$I$140,"42") -> 169760 | F32: =SUMIFS('Podaci 5. razina'!$L$4:$L$140,'Podaci 5. razina'!$I$4:$I$140,"42") -> 295760 | G32: =SUMIFS('Podaci 5. razina'!$M$4:$M$140,'Podaci 5. razina'!$I$4:$I$140,"42") -> 45760 | H32: =SUMIFS('Podaci 5. razina'!$N$4:$N$140,'Podaci 5. razina'!$I$4:$I$140,"42") -> 45760
C33: RASHODI UKUPNO | D33: =D25+D31 -> 1714116 | E33: =E25+E31 -> 1973470 | F33: =F25+F31 -> 2120850 | G33: =G25+G31 -> 1870850 | H33: =H25+H31 -> 1870850
C34: Razlika prihodi – rashodi (planovi = 0; 2025. = manjak iz izvještaja) | D34: =D19-D33 -> -125279.84 | E34: =E19-E33 -> 0 | F34: =F19-F33 -> 0 | G34: =G19-G33 -> 0 | H34: =H19-H33 -> 0

Sheet Prihodi i rashodi po izvorima
A1: PRIJEDLOG FINANCIJSKOG PLANA OSNOVNE ŠKOLE MARINA GETALDIĆA ZA 2027. I PROJEKCIJA ZA 2028. I 2029. GODINU
A3: I. OPĆI DIO
A5: A. RAČUN PRIHODA I RASHODA
A7: PRIHODI POSLOVANJA PREMA IZVORIMA FINANCIRANJA
A10: Brojčana oznaka i naziv | B10: Izvršenje 2025. | C10: Plan 2026. | D10: Plan za 2027. | E10: Projekcija za 2028. | F10: Projekcija za 2029.
A11: PRIHODI UKUPNO | B11: =B12 -> 1588836.1 | C11: =C12 -> 1973470 | D11: =D12 -> 2120850 | E11: =E12 -> 1870850 | F11: =F12 -> 1870850
A12: IZVOR | B12: =SUM(B13:B20) -> 1588836.1 | C12: =SUM(C13:C20) -> 1973470 | D12: =SUM(D13:D20) -> 2120850 | E12: =SUM(E13:E20) -> 1870850 | F12: =SUM(F13:F20) -> 1870850
A13: 11 Opći prihodi i primici | B13: 284372 | C13: =SUMIFS('Podaci 5. razina'!$K$4:$K$140,'Podaci 5. razina'!$D$4:$D$140,"11") -> 468450 | D13: =SUMIFS('Podaci 5. razina'!$L$4:$L$140,'Podaci 5. razina'!$D$4:$D$140,"11") -> 533800 | E13: =SUMIFS('Podaci 5. razina'!$M$4:$M$140,'Podaci 5. razina'!$D$4:$D$140,"11") -> 283800 | F13: =SUMIFS('Podaci 5. razina'!$N$4:$N$140,'Podaci 5. razina'!$D$4:$D$140,"11") -> 283800
A14: 112 Opći prihodi i primici – decentralizirane funkcije | B14: 70461.54 | C14: =SUMIFS('Podaci 5. razina'!$K$4:$K$140,'Podaci 5. razina'!$D$4:$D$140,"112") -> 56400 | D14: =SUMIFS('Podaci 5. razina'!$L$4:$L$140,'Podaci 5. razina'!$D$4:$D$140,"112") -> 52400 | E14: =SUMIFS('Podaci 5. razina'!$M$4:$M$140,'Podaci 5. razina'!$D$4:$D$140,"112") -> 52400 | F14: =SUMIFS('Podaci 5. razina'!$N$4:$N$140,'Podaci 5. razina'!$D$4:$D$140,"112") -> 52400
A15: 312 Vlastiti prihodi proračunskih korisnika | B15: 26.82 | C15: =SUMIFS('Podaci 5. razina'!$K$4:$K$140,'Podaci 5. razina'!$D$4:$D$140,"312") -> 100 | D15: =SUMIFS('Podaci 5. razina'!$L$4:$L$140,'Podaci 5. razina'!$D$4:$D$140,"312") -> 20100 | E15: =SUMIFS('Podaci 5. razina'!$M$4:$M$140,'Podaci 5. razina'!$D$4:$D$140,"312") -> 20100 | F15: =SUMIFS('Podaci 5. razina'!$N$4:$N$140,'Podaci 5. razina'!$D$4:$D$140,"312") -> 20100
A16: 436 Ostali prihodi za posebne namjene | B16: 21837.1 | C16: =SUMIFS('Podaci 5. razina'!$K$4:$K$140,'Podaci 5. razina'!$D$4:$D$140,"436") -> 20000 | D16: =SUMIFS('Podaci 5. razina'!$L$4:$L$140,'Podaci 5. razina'!$D$4:$D$140,"436") -> 33000 | E16: =SUMIFS('Podaci 5. razina'!$M$4:$M$140,'Podaci 5. razina'!$D$4:$D$140,"436") -> 33000 | F16: =SUMIFS('Podaci 5. razina'!$N$4:$N$140,'Podaci 5. razina'!$D$4:$D$140,"436") -> 33000
A17: 5011 Pomoći iz državnog proračuna kroz opće prihode i primitke | B17: 1182960.2 | C17: =SUMIFS('Podaci 5. razina'!$K$4:$K$140,'Podaci 5. razina'!$D$4:$D$140,"5011") -> 1393370 | D17: =SUMIFS('Podaci 5. razina'!$L$4:$L$140,'Podaci 5. razina'!$D$4:$D$140,"5011") -> 1447870 | E17: =SUMIFS('Podaci 5. razina'!$M$4:$M$140,'Podaci 5. razina'!$D$4:$D$140,"5011") -> 1447870 | F17: =SUMIFS('Podaci 5. razina'!$N$4:$N$140,'Podaci 5. razina'!$D$4:$D$140,"5011") -> 1447870
A18: 55 Donacije i ostali namjenski prihodi proračunskih korisnika | B18: 2147.5 | C18: =SUMIFS('Podaci 5. razina'!$K$4:$K$140,'Podaci 5. razina'!$D$4:$D$140,"55") -> 5930 | D18: =SUMIFS('Podaci 5. razina'!$L$4:$L$140,'Podaci 5. razina'!$D$4:$D$140,"55") -> 5930 | E18: =SUMIFS('Podaci 5. razina'!$M$4:$M$140,'Podaci 5. razina'!$D$4:$D$140,"55") -> 5930 | F18: =SUMIFS('Podaci 5. razina'!$N$4:$N$140,'Podaci 5. razina'!$D$4:$D$140,"55") -> 5930
A19: 561 Europski socijalni fond plus | B19: 25211.01 | C19: =SUMIFS('Podaci 5. razina'!$K$4:$K$140,'Podaci 5. razina'!$D$4:$D$140,"561") -> 27220 | D19: =SUMIFS('Podaci 5. razina'!$L$4:$L$140,'Podaci 5. razina'!$D$4:$D$140,"561") -> 25750 | E19: =SUMIFS('Podaci 5. razina'!$M$4:$M$140,'Podaci 5. razina'!$D$4:$D$140,"561") -> 25750 | F19: =SUMIFS('Podaci 5. razina'!$N$4:$N$140,'Podaci 5. razina'!$D$4:$D$140,"561") -> 25750
A20: 565 Europski poljoprivredni fond za ruralni razvoj | B20: 1820 | C20: =SUMIFS('Podaci 5. razina'!$K$4:$K$140,'Podaci 5. razina'!$D$4:$D$140,"565") -> 2000 | D20: =SUMIFS('Podaci 5. razina'!$L$4:$L$140,'Podaci 5. razina'!$D$4:$D$140,"565") -> 2000 | E20: =SUMIFS('Podaci 5. razina'!$M$4:$M$140,'Podaci 5. razina'!$D$4:$D$140,"565") -> 2000 | F20: =SUMIFS('Podaci 5. razina'!$N$4:$N$140,'Podaci 5. razina'!$D$4:$D$140,"565") -> 2000
A23: RASHODI POSLOVANJA PREMA IZVORIMA FINANCIRANJA
A25: Brojčana oznaka i naziv | B25: Izvršenje 2025. | C25: Plan 2026. | D25: Plan za 2027. | E25: Projekcija za 2028. | F25: Projekcija za 2029.
A26: RASHODI UKUPNO | B26: =B27+B38 -> 1714116 | C26: =C27+C38 -> 1973470 | D26: =D27+D38 -> 2120850 | E26: =E27+E38 -> 1870850 | F26: =F27+F38 -> 1870850
A27: 3 Rashodi poslovanja | B27: =SUM(B28:B37) -> 1677586.2 | C27: =SUM(C28:C37) -> 1803710 | D27: =SUM(D28:D37) -> 1825090 | E27: =SUM(E28:E37) -> 1825090 | F27: =SUM(F28:F37) -> 1825090
A28: 11 Opći prihodi i primici | B28: =SUMIFS('Podaci 5. razina'!$J$4:$J$140,'Podaci 5. razina'!$D$4:$D$140,"11",'Podaci 5. razina'!$H$4:$H$140,"3") -> 259177.6 | C28: =SUMIFS('Podaci 5. razina'!$K$4:$K$140,'Podaci 5. razina'!$D$4:$D$140,"11",'Podaci 5. razina'!$H$4:$H$140,"3") -> 328450 | D28: =SUMIFS('Podaci 5. razina'!$L$4:$L$140,'Podaci 5. razina'!$D$4:$D$140,"11",'Podaci 5. razina'!$H$4:$H$140,"3") -> 283800 | E28: =SUMIFS('Podaci 5. razina'!$M$4:$M$140,'Podaci 5. razina'!$D$4:$D$140,"11",'Podaci 5. razina'!$H$4:$H$140,"3") -> 283800 | F28: =SUMIFS('Podaci 5. razina'!$N$4:$N$140,'Podaci 5. razina'!$D$4:$D$140,"11",'Podaci 5. razina'!$H$4:$H$140,"3") -> 283800
A29: 112 Opći prihodi i primici – decentralizirane funkcije | B29: =SUMIFS('Podaci 5. razina'!$J$4:$J$140,'Podaci 5. razina'!$D$4:$D$140,"112",'Podaci 5. razina'!$H$4:$H$140,"3") -> 72000 | C29: =SUMIFS('Podaci 5. razina'!$K$4:$K$140,'Podaci 5. razina'!$D$4:$D$140,"112",'Podaci 5. razina'!$H$4:$H$140,"3") -> 56400 | D29: =SUMIFS('Podaci 5. razina'!$L$4:$L$140,'Podaci 5. razina'!$D$4:$D$140,"112",'Podaci 5. razina'!$H$4:$H$140,"3") -> 52400 | E29: =SUMIFS('Podaci 5. razina'!$M$4:$M$140,'Podaci 5. razina'!$D$4:$D$140,"112",'Podaci 5. razina'!$H$4:$H$140,"3") -> 52400 | F29: =SUMIFS('Podaci 5. razina'!$N$4:$N$140,'Podaci 5. razina'!$D$4:$D$140,"112",'Podaci 5. razina'!$H$4:$H$140,"3") -> 52400
A30: 312 Vlastiti prihodi proračunskih korisnika | B30: =SUMIFS('Podaci 5. razina'!$J$4:$J$140,'Podaci 5. razina'!$D$4:$D$140,"312",'Podaci 5. razina'!$H$4:$H$140,"3") -> 0 | C30: =SUMIFS('Podaci 5. razina'!$K$4:$K$140,'Podaci 5. razina'!$D$4:$D$140,"312",'Podaci 5. razina'!$H$4:$H$140,"3") -> 10 | D30: =SUMIFS('Podaci 5. razina'!$L$4:$L$140,'Podaci 5. razina'!$D$4:$D$140,"312",'Podaci 5. razina'!$H$4:$H$140,"3") -> 5010 | E30: =SUMIFS('Podaci 5. razina'!$M$4:$M$140,'Podaci 5. razina'!$D$4:$D$140,"312",'Podaci 5. razina'!$H$4:$H$140,"3") -> 5010 | F30: =SUMIFS('Podaci 5. razina'!$N$4:$N$140,'Podaci 5. razina'!$D$4:$D$140,"312",'Podaci 5. razina'!$H$4:$H$140,"3") -> 5010
A31: 436 Ostali prihodi za posebne namjene | B31: =SUMIFS('Podaci 5. razina'!$J$4:$J$140,'Podaci 5. razina'!$D$4:$D$140,"436",'Podaci 5. razina'!$H$4:$H$140,"3") -> 24644.1 | C31: =SUMIFS('Podaci 5. razina'!$K$4:$K$140,'Podaci 5. razina'!$D$4:$D$140,"436",'Podaci 5. razina'!$H$4:$H$140,"3") -> 20000 | D31: =SUMIFS('Podaci 5. razina'!$L$4:$L$140,'Podaci 5. razina'!$D$4:$D$140,"436",'Podaci 5. razina'!$H$4:$H$140,"3") -> 33000 | E31: =SUMIFS('Podaci 5. razina'!$M$4:$M$140,'Podaci 5. razina'!$D$4:$D$140,"436",'Podaci 5. razina'!$H$4:$H$140,"3") -> 33000 | F31: =SUMIFS('Podaci 5. razina'!$N$4:$N$140,'Podaci 5. razina'!$D$4:$D$140,"436",'Podaci 5. razina'!$H$4:$H$140,"3") -> 33000
A32: 5011 Pomoći iz državnog proračuna kroz opće prihode i primitke | B32: =SUMIFS('Podaci 5. razina'!$J$4:$J$140,'Podaci 5. razina'!$D$4:$D$140,"5011",'Podaci 5. razina'!$H$4:$H$140,"3") -> 1248299.6 | C32: =SUMIFS('Podaci 5. razina'!$K$4:$K$140,'Podaci 5. razina'!$D$4:$D$140,"5011",'Podaci 5. razina'!$H$4:$H$140,"3") -> 1366400 | D32: =SUMIFS('Podaci 5. razina'!$L$4:$L$140,'Podaci 5. razina'!$D$4:$D$140,"5011",'Podaci 5. razina'!$H$4:$H$140,"3") -> 1419900 | E32: =SUMIFS('Podaci 5. razina'!$M$4:$M$140,'Podaci 5. razina'!$D$4:$D$140,"5011",'Podaci 5. razina'!$H$4:$H$140,"3") -> 1419900 | F32: =SUMIFS('Podaci 5. razina'!$N$4:$N$140,'Podaci 5. razina'!$D$4:$D$140,"5011",'Podaci 5. razina'!$H$4:$H$140,"3") -> 1419900
A33: 55 Donacije i ostali namjenski prihodi proračunskih korisnika | B33: =SUMIFS('Podaci 5. razina'!$J$4:$J$140,'Podaci 5. razina'!$D$4:$D$140,"55",'Podaci 5. razina'!$H$4:$H$140,"3") -> 3706.65 | C33: =SUMIFS('Podaci 5. razina'!$K$4:$K$140,'Podaci 5. razina'!$D$4:$D$140,"55",'Podaci 5. razina'!$H$4:$H$140,"3") -> 3230 | D33: =SUMIFS('Podaci 5. razina'!$L$4:$L$140,'Podaci 5. razina'!$D$4:$D$140,"55",'Podaci 5. razina'!$H$4:$H$140,"3") -> 3230 | E33: =SUMIFS('Podaci 5. razina'!$M$4:$M$140,'Podaci 5. razina'!$D$4:$D$140,"55",'Podaci 5. razina'!$H$4:$H$140,"3") -> 3230 | F33: =SUMIFS('Podaci 5. razina'!$N$4:$N$140,'Podaci 5. razina'!$D$4:$D$140,"55",'Podaci 5. razina'!$H$4:$H$140,"3") -> 3230
A34: 561 Europski socijalni fond plus | B34: =SUMIFS('Podaci 5. razina'!$J$4:$J$140,'Podaci 5. razina'!$D$4:$D$140,"561",'Podaci 5. razina'!$H$4:$H$140,"3") -> 25211.01 | C34: =SUMIFS('Podaci 5. razina'!$K$4:$K$140,'Podaci 5. razina'!$D$4:$D$140,"561",'Podaci 5. razina'!$H$4:$H$140,"3") -> 27220 | D34: =SUMIFS('Podaci 5. razina'!$L$4:$L$140,'Podaci 5. razina'!$D$4:$D$140,"561",'Podaci 5. razina'!$H$4:$H$140,"3") -> 25750 | E34: =SUMIFS('Podaci 5. razina'!$M$4:$M$140,'Podaci 5. razina'!$D$4:$D$140,"561",'Podaci 5. razina'!$H$4:$H$140,"3") -> 25750 | F34: =SUMIFS('Podaci 5. razina'!$N$4:$N$140,'Podaci 5. razina'!$D$4:$D$140,"561",'Podaci 5. razina'!$H$4:$H$140,"3") -> 25750
A35: 565 Europski poljoprivredni fond za ruralni razvoj | B35: =SUMIFS('Podaci 5. razina'!$J$4:$J$140,'Podaci 5. razina'!$D$4:$D$140,"565",'Podaci 5. razina'!$H$4:$H$140,"3") -> 1820 | C35: =SUMIFS('Podaci 5. razina'!$K$4:$K$140,'Podaci 5. razina'!$D$4:$D$140,"565",'Podaci 5. razina'!$H$4:$H$140,"3") -> 2000 | D35: =SUMIFS('Podaci 5. razina'!$L$4:$L$140,'Podaci 5. razina'!$D$4:$D$140,"565",'Podaci 5. razina'!$H$4:$H$140,"3") -> 2000 | E35: =SUMIFS('Podaci 5. razina'!$M$4:$M$140,'Podaci 5. razina'!$D$4:$D$140,"565",'Podaci 5. razina'!$H$4:$H$140,"3") -> 2000 | F35: =SUMIFS('Podaci 5. razina'!$N$4:$N$140,'Podaci 5. razina'!$D$4:$D$140,"565",'Podaci 5. razina'!$H$4:$H$140,"3") -> 2000
A36: 92 Višak/manjak prihoda (stari izvor, samo izvršenje 2025.) | B36: =SUMIFS('Podaci 5. razina'!$J$4:$J$140,'Podaci 5. razina'!$D$4:$D$140,"92",'Podaci 5. razina'!$H$4:$H$140,"3") -> 39640 | C36: =SUMIFS('Podaci 5. razina'!$K$4:$K$140,'Podaci 5. razina'!$D$4:$D$140,"92",'Podaci 5. razina'!$H$4:$H$140,"3") -> 0 | D36: =SUMIFS('Podaci 5. razina'!$L$4:$L$140,'Podaci 5. razina'!$D$4:$D$140,"92",'Podaci 5. razina'!$H$4:$H$140,"3") -> 0 | E36: =SUMIFS('Podaci 5. razina'!$M$4:$M$140,'Podaci 5. razina'!$D$4:$D$140,"92",'Podaci 5. razina'!$H$4:$H$140,"3") -> 0 | F36: =SUMIFS('Podaci 5. razina'!$N$4:$N$140,'Podaci 5. razina'!$D$4:$D$140,"92",'Podaci 5. razina'!$H$4:$H$140,"3") -> 0
A37: 99 Višak/manjak prihoda proračunskih korisnika (stari izvor, samo izvršenje 2025.) | B37: =SUMIFS('Podaci 5. razina'!$J$4:$J$140,'Podaci 5. razina'!$D$4:$D$140,"99",'Podaci 5. razina'!$H$4:$H$140,"3") -> 3087.31 | C37: =SUMIFS('Podaci 5. razina'!$K$4:$K$140,'Podaci 5. razina'!$D$4:$D$140,"99",'Podaci 5. razina'!$H$4:$H$140,"3") -> 0 | D37: =SUMIFS('Podaci 5. razina'!$L$4:$L$140,'Podaci 5. razina'!$D$4:$D$140,"99",'Podaci 5. razina'!$H$4:$H$140,"3") -> 0 | E37: =SUMIFS('Podaci 5. razina'!$M$4:$M$140,'Podaci 5. razina'!$D$4:$D$140,"99",'Podaci 5. razina'!$H$4:$H$140,"3") -> 0 | F37: =SUMIFS('Podaci 5. razina'!$N$4:$N$140,'Podaci 5. razina'!$D$4:$D$140,"99",'Podaci 5. razina'!$H$4:$H$140,"3") -> 0
A38: 4 Rashodi za nabavu nefinancijske imovine | B38: =SUM(B39:B43) -> 36529.74 | C38: =SUM(C39:C43) -> 169760 | D38: =SUM(D39:D43) -> 295760 | E38: =SUM(E39:E43) -> 45760 | F38: =SUM(F39:F43) -> 45760
A39: 11 Opći prihodi i primici | B39: =SUMIFS('Podaci 5. razina'!$J$4:$J$140,'Podaci 5. razina'!$D$4:$D$140,"11",'Podaci 5. razina'!$H$4:$H$140,"4") -> 9600 | C39: =SUMIFS('Podaci 5. razina'!$K$4:$K$140,'Podaci 5. razina'!$D$4:$D$140,"11",'Podaci 5. razina'!$H$4:$H$140,"4") -> 140000 | D39: =SUMIFS('Podaci 5. razina'!$L$4:$L$140,'Podaci 5. razina'!$D$4:$D$140,"11",'Podaci 5. razina'!$H$4:$H$140,"4") -> 250000 | E39: =SUMIFS('Podaci 5. razina'!$M$4:$M$140,'Podaci 5. razina'!$D$4:$D$140,"11",'Podaci 5. razina'!$H$4:$H$140,"4") -> 0 | F39: =SUMIFS('Podaci 5. razina'!$N$4:$N$140,'Podaci 5. razina'!$D$4:$D$140,"11",'Podaci 5. razina'!$H$4:$H$140,"4") -> 0
A40: 312 Vlastiti prihodi proračunskih korisnika | B40: =SUMIFS('Podaci 5. razina'!$J$4:$J$140,'Podaci 5. razina'!$D$4:$D$140,"312",'Podaci 5. razina'!$H$4:$H$140,"4") -> 1.23 | C40: =SUMIFS('Podaci 5. razina'!$K$4:$K$140,'Podaci 5. razina'!$D$4:$D$140,"312",'Podaci 5. razina'!$H$4:$H$140,"4") -> 90 | D40: =SUMIFS('Podaci 5. razina'!$L$4:$L$140,'Podaci 5. razina'!$D$4:$D$140,"312",'Podaci 5. razina'!$H$4:$H$140,"4") -> 15090 | E40: =SUMIFS('Podaci 5. razina'!$M$4:$M$140,'Podaci 5. razina'!$D$4:$D$140,"312",'Podaci 5. razina'!$H$4:$H$140,"4") -> 15090 | F40: =SUMIFS('Podaci 5. razina'!$N$4:$N$140,'Podaci 5. razina'!$D$4:$D$140,"312",'Podaci 5. razina'!$H$4:$H$140,"4") -> 15090
A41: 5011 Pomoći iz državnog proračuna kroz opće prihode i primitke | B41: =SUMIFS('Podaci 5. razina'!$J$4:$J$140,'Podaci 5. razina'!$D$4:$D$140,"5011",'Podaci 5. razina'!$H$4:$H$140,"4") -> 26304.51 | C41: =SUMIFS('Podaci 5. razina'!$K$4:$K$140,'Podaci 5. razina'!$D$4:$D$140,"5011",'Podaci 5. razina'!$H$4:$H$140,"4") -> 26970 | D41: =SUMIFS('Podaci 5. razina'!$L$4:$L$140,'Podaci 5. razina'!$D$4:$D$140,"5011",'Podaci 5. razina'!$H$4:$H$140,"4") -> 27970 | E41: =SUMIFS('Podaci 5. razina'!$M$4:$M$140,'Podaci 5. razina'!$D$4:$D$140,"5011",'Podaci 5. razina'!$H$4:$H$140,"4") -> 27970 | F41: =SUMIFS('Podaci 5. razina'!$N$4:$N$140,'Podaci 5. razina'!$D$4:$D$140,"5011",'Podaci 5. razina'!$H$4:$H$140,"4") -> 27970
A42: 55 Donacije i ostali namjenski prihodi proračunskih korisnika | B42: =SUMIFS('Podaci 5. razina'!$J$4:$J$140,'Podaci 5. razina'!$D$4:$D$140,"55",'Podaci 5. razina'!$H$4:$H$140,"4") -> 570 | C42: =SUMIFS('Podaci 5. razina'!$K$4:$K$140,'Podaci 5. razina'!$D$4:$D$140,"55",'Podaci 5. razina'!$H$4:$H$140,"4") -> 2700 | D42: =SUMIFS('Podaci 5. razina'!$L$4:$L$140,'Podaci 5. razina'!$D$4:$D$140,"55",'Podaci 5. razina'!$H$4:$H$140,"4") -> 2700 | E42: =SUMIFS('Podaci 5. razina'!$M$4:$M$140,'Podaci 5. razina'!$D$4:$D$140,"55",'Podaci 5. razina'!$H$4:$H$140,"4") -> 2700 | F42: =SUMIFS('Podaci 5. razina'!$N$4:$N$140,'Podaci 5. razina'!$D$4:$D$140,"55",'Podaci 5. razina'!$H$4:$H$140,"4") -> 2700
A43: 99 Višak/manjak prihoda proračunskih korisnika (stari izvor, samo izvršenje 2025.) | B43: =SUMIFS('Podaci 5. razina'!$J$4:$J$140,'Podaci 5. razina'!$D$4:$D$140,"99",'Podaci 5. razina'!$H$4:$H$140,"4") -> 54 | C43: =SUMIFS('Podaci 5. razina'!$K$4:$K$140,'Podaci 5. razina'!$D$4:$D$140,"99",'Podaci 5. razina'!$H$4:$H$140,"4") -> 0 | D43: =SUMIFS('Podaci 5. razina'!$L$4:$L$140,'Podaci 5. razina'!$D$4:$D$140,"99",'Podaci 5. razina'!$H$4:$H$140,"4") -> 0 | E43: =SUMIFS('Podaci 5. razina'!$M$4:$M$140,'Podaci 5. razina'!$D$4:$D$140,"99",'Podaci 5. razina'!$H$4:$H$140,"4") -> 0 | F43: =SUMIFS('Podaci 5. razina'!$N$4:$N$140,'Podaci 5. razina'!$D$4:$D$140,"99",'Podaci 5. razina'!$H$4:$H$140,"4") -> 0
A45: Razlika prihodi – rashodi (planovi = 0; 2025. = manjak iz izvještaja) | B45: =B11-B26 -> -125279.84 | C45: =C11-C26 -> 0 | D45: =D11-D26 -> 0 | E45: =E11-E26 -> 0 | F45: =F11-F26 -> 0

Sheet Rashodi prema funkcijskoj kl
A1: PRIJEDLOG FINANCIJSKOG PLANA OSNOVNE ŠKOLE MARINA GETALDIĆA ZA 2027. I PROJEKCIJA ZA 2028. I 2029. GODINU
A3: I. OPĆI DIO
A5: A. RAČUN PRIHODA I RASHODA
A7: RASHODI PREMA FUNKCIJSKOJ KLASIFIKACIJI
A10: BROJČANA OZNAKA I NAZIV | B10: Izvršenje 2025. | C10: Plan 2026. | D10: Plan za 2027. | E10: Projekcija za 2028. | F10: Projekcija za 2029.
A11: UKUPNI RASHODI | B11: =' Račun prihoda i rashoda'!D33 -> 1714116 | C11: =' Račun prihoda i rashoda'!E33 -> 1973470 | D11: =' Račun prihoda i rashoda'!F33 -> 2120850 | E11: =' Račun prihoda i rashoda'!G33 -> 1870850 | F11: =' Račun prihoda i rashoda'!H33 -> 1870850
A12: 09 OBRAZOVANJE | B12: =B11 -> 1714116 | C12: =C11 -> 1973470 | D12: =D11 -> 2120850 | E12: =E11 -> 1870850 | F12: =F11 -> 1870850
A13: 091 Predškolsko i osnovno obrazovanje | B13: =B12 -> 1714116 | C13: =C12 -> 1973470 | D13: =D12 -> 2120850 | E13: =E12 -> 1870850 | F13: =F12 -> 1870850

Sheet Posebni dio
A1: PRIJEDLOG FINANCIJSKOG PLANA OSNOVNE ŠKOLE MARINA GETALDIĆA ZA 2027. I PROJEKCIJA ZA 2028. I 2029. GODINU
A3: II. POSEBNI DIO
A5: Oznaka | B5: Izvršenje 2025. | C5: Plan 2026. | D5: Plan za 2027. | E5: Projekcija za 2028. | F5: Projekcija za 2029.
A6: SVEUKUPNO | B6: =B7 -> 1714116 | C6: =C7 -> 1973470 | D6: =D7 -> 2120850 | E6: =E7 -> 1870850 | F6: =F7 -> 1870850
A7: Razdjel: 008 UPRAVNI ODJEL ZA OBRAZOVANJE, ŠPORT, SOCIJALNU SKRB I CIVILNO DRUŠTVO | B7: =B8 -> 1714116 | C7: =C8 -> 1973470 | D7: =D8 -> 2120850 | E7: =E8 -> 1870850 | F7: =F8 -> 1870850
A8: Glava: 00831 OSNOVNO ŠKOLSTVO | B8: =B9 -> 1714116 | C8: =C9 -> 1973470 | D8: =D9 -> 2120850 | E8: =E9 -> 1870850 | F8: =F9 -> 1870850
A9: 11919 OŠ MARINA GETALDIĆA | B9: =B10 -> 1714116 | C9: =C10 -> 1973470 | D9: =D10 -> 2120850 | E9: =E10 -> 1870850 | F9: =F10 -> 1870850
A10: Uprava: 0003 OŠ MARINA GETALDIĆA | B10: =B11+B22+B74+B78 -> 1714116 | C10: =C11+C22+C74+C78 -> 1973470 | D10: =D11+D22+D74+D78 -> 2120850 | E10: =E11+E22+E74+E78 -> 1870850 | F10: =F11+F22+F74+F78 -> 1870850
A11: Program: 18054 DECENTRALIZIRANE FUNKCIJE – MINIMALNI FINANCIJSKI STANDARD | B11: =B12+B18 -> 1262892.2 | C11: =C12+C18 -> 1332800 | D11: =D12+D18 -> 1380300 | E11: =E12+E18 -> 1380300 | F11: =F12+F18 -> 1380300
A12: 18054001 MATERIJALNI I FINANCIJSKI RASHODI | B12: =B13+B16 -> 72000 | C12: =C13+C16 -> 71000 | D12: =D13+D16 -> 95500 | E12: =E13+E16 -> 95500 | F12: =F13+F16 -> 95500
A13: Izvor: 112 Opći prihodi i primici – decentralizirane funkcije | B13: =SUM(B14:B15) -> 72000 | C13: =SUM(C14:C15) -> 56400 | D13: =SUM(D14:D15) -> 52400 | E13: =SUM(E14:E15) -> 52400 | F13: =SUM(F14:F15) -> 52400
A14: 32 Materijalni rashodi | B14: =SUMIFS('Podaci 5. razina'!$J$4:$J$140,'Podaci 5. razina'!$B$4:$B$140,"18054001",'Podaci 5. razina'!$D$4:$D$140,"112",'Podaci 5. razina'!$I$4:$I$140,"32") -> 71500 | C14: =SUMIFS('Podaci 5. razina'!$K$4:$K$140,'Podaci 5. razina'!$B$4:$B$140,"18054001",'Podaci 5. razina'!$D$4:$D$140,"112",'Podaci 5. razina'!$I$4:$I$140,"32") -> 55900 | D14: =SUMIFS('Podaci 5. razina'!$L$4:$L$140,'Podaci 5. razina'!$B$4:$B$140,"18054001",'Podaci 5. razina'!$D$4:$D$140,"112",'Podaci 5. razina'!$I$4:$I$140,"32") -> 51900 | E14: =SUMIFS('Podaci 5. razina'!$M$4:$M$140,'Podaci 5. razina'!$B$4:$B$140,"18054001",'Podaci 5. razina'!$D$4:$D$140,"112",'Podaci 5. razina'!$I$4:$I$140,"32") -> 51900 | F14: =SUMIFS('Podaci 5. razina'!$N$4:$N$140,'Podaci 5. razina'!$B$4:$B$140,"18054001",'Podaci 5. razina'!$D$4:$D$140,"112",'Podaci 5. razina'!$I$4:$I$140,"32") -> 51900
A15: 34 Financijski rashodi | B15: =SUMIFS('Podaci 5. razina'!$J$4:$J$140,'Podaci 5. razina'!$B$4:$B$140,"18054001",'Podaci 5. razina'!$D$4:$D$140,"112",'Podaci 5. razina'!$I$4:$I$140,"34") -> 500 | C15: =SUMIFS('Podaci 5. razina'!$K$4:$K$140,'Podaci 5. razina'!$B$4:$B$140,"18054001",'Podaci 5. razina'!$D$4:$D$140,"112",'Podaci 5. razina'!$I$4:$I$140,"34") -> 500 | D15: =SUMIFS('Podaci 5. razina'!$L$4:$L$140,'Podaci 5. razina'!$B$4:$B$140,"18054001",'Podaci 5. razina'!$D$4:$D$140,"112",'Podaci 5. razina'!$I$4:$I$140,"34") -> 500 | E15: =SUMIFS('Podaci 5. razina'!$M$4:$M$140,'Podaci 5. razina'!$B$4:$B$140,"18054001",'Podaci 5. razina'!$D$4:$D$140,"112",'Podaci 5. razina'!$I$4:$I$140,"34") -> 500 | F15: =SUMIFS('Podaci 5. razina'!$N$4:$N$140,'Podaci 5. razina'!$B$4:$B$140,"18054001",'Podaci 5. razina'!$D$4:$D$140,"112",'Podaci 5. razina'!$I$4:$I$140,"34") -> 500
A16: Izvor: 5011 Pomoći iz državnog proračuna kroz opće prihode i primitke | B16: =SUM(B17:B17) -> 0 | C16: =SUM(C17:C17) -> 14600 | D16: =SUM(D17:D17) -> 43100 | E16: =SUM(E17:E17) -> 43100 | F16: =SUM(F17:F17) -> 43100
A17: 32 Materijalni rashodi | B17: =SUMIFS('Podaci 5. razina'!$J$4:$J$140,'Podaci 5. razina'!$B$4:$B$140,"18054001",'Podaci 5. razina'!$D$4:$D$140,"5011",'Podaci 5. razina'!$I$4:$I$140,"32") -> 0 | C17: =SUMIFS('Podaci 5. razina'!$K$4:$K$140,'Podaci 5. razina'!$B$4:$B$140,"18054001",'Podaci 5. razina'!$D$4:$D$140,"5011",'Podaci 5. razina'!$I$4:$I$140,"32") -> 14600 | D17: =SUMIFS('Podaci 5. razina'!$L$4:$L$140,'Podaci 5. razina'!$B$4:$B$140,"18054001",'Podaci 5. razina'!$D$4:$D$140,"5011",'Podaci 5. razina'!$I$4:$I$140,"32") -> 43100 | E17: =SUMIFS('Podaci 5. razina'!$M$4:$M$140,'Podaci 5. razina'!$B$4:$B$140,"18054001",'Podaci 5. razina'!$D$4:$D$140,"5011",'Podaci 5. razina'!$I$4:$I$140,"32") -> 43100 | F17: =SUMIFS('Podaci 5. razina'!$N$4:$N$140,'Podaci 5. razina'!$B$4:$B$140,"18054001",'Podaci 5. razina'!$D$4:$D$140,"5011",'Podaci 5. razina'!$I$4:$I$140,"32") -> 43100
A18: 18054004 REDOVNA DJELATNOST OSNOVNOG OBRAZOVANJA | B18: =B19 -> 1190892.2 | C18: =C19 -> 1261800 | D18: =D19 -> 1284800 | E18: =E19 -> 1284800 | F18: =F19 -> 1284800
A19: Izvor: 5011 Pomoći iz državnog proračuna kroz opće prihode i primitke | B19: =SUM(B20:B21) -> 1190892.2 | C19: =SUM(C20:C21) -> 1261800 | D19: =SUM(D20:D21) -> 1284800 | E19: =SUM(E20:E21) -> 1284800 | F19: =SUM(F20:F21) -> 1284800
A20: 31 Rashodi za zaposlene | B20: =SUMIFS('Podaci 5. razina'!$J$4:$J$140,'Podaci 5. razina'!$B$4:$B$140,"18054004",'Podaci 5. razina'!$D$4:$D$140,"5011",'Podaci 5. razina'!$I$4:$I$140,"31") -> 1165263.5 | C20: =SUMIFS('Podaci 5. razina'!$K$4:$K$140,'Podaci 5. razina'!$B$4:$B$140,"18054004",'Podaci 5. razina'!$D$4:$D$140,"5011",'Podaci 5. razina'!$I$4:$I$140,"31") -> 1234000 | D20: =SUMIFS('Podaci 5. razina'!$L$4:$L$140,'Podaci 5. razina'!$B$4:$B$140,"18054004",'Podaci 5. razina'!$D$4:$D$140,"5011",'Podaci 5. razina'!$I$4:$I$140,"31") -> 1257000 | E20: =SUMIFS('Podaci 5. razina'!$M$4:$M$140,'Podaci 5. razina'!$B$4:$B$140,"18054004",'Podaci 5. razina'!$D$4:$D$140,"5011",'Podaci 5. razina'!$I$4:$I$140,"31") -> 1257000 | F20: =SUMIFS('Podaci 5. razina'!$N$4:$N$140,'Podaci 5. razina'!$B$4:$B$140,"18054004",'Podaci 5. razina'!$D$4:$D$140,"5011",'Podaci 5. razina'!$I$4:$I$140,"31") -> 1257000
A21: 32 Materijalni rashodi | B21: =SUMIFS('Podaci 5. razina'!$J$4:$J$140,'Podaci 5. razina'!$B$4:$B$140,"18054004",'Podaci 5. razina'!$D$4:$D$140,"5011",'Podaci 5. razina'!$I$4:$I$140,"32") -> 25628.78 | C21: =SUMIFS('Podaci 5. razina'!$K$4:$K$140,'Podaci 5. razina'!$B$4:$B$140,"18054004",'Podaci 5. razina'!$D$4:$D$140,"5011",'Podaci 5. razina'!$I$4:$I$140,"32") -> 27800 | D21: =SUMIFS('Podaci 5. razina'!$L$4:$L$140,'Podaci 5. razina'!$B$4:$B$140,"18054004",'Podaci 5. razina'!$D$4:$D$140,"5011",'Podaci 5. razina'!$I$4:$I$140,"32") -> 27800 | E21: =SUMIFS('Podaci 5. razina'!$M$4:$M$140,'Podaci 5. razina'!$B$4:$B$140,"18054004",'Podaci 5. razina'!$D$4:$D$140,"5011",'Podaci 5. razina'!$I$4:$I$140,"32") -> 27800 | F21: =SUMIFS('Podaci 5. razina'!$N$4:$N$140,'Podaci 5. razina'!$B$4:$B$140,"18054004",'Podaci 5. razina'!$D$4:$D$140,"5011",'Podaci 5. razina'!$I$4:$I$140,"32") -> 27800
A22: Program: 18055 DECENTRALIZIRANE FUNKCIJE – IZNAD MINIMALNOG FINANCIJSKOG STANDARDA | B22: =B23+B37+B44+B49+B53+B60+B63+B66 -> 445253.75 | C22: =C23+C37+C44+C49+C53+C60+C63+C66 -> 494700 | D22: =D23+D37+D44+D49+D53+D60+D63+D66 -> 484580 | E22: =E23+E37+E44+E49+E53+E60+E63+E66 -> 484580 | F22: =F23+F37+F44+F49+F53+F60+F63+F66 -> 484580
A23: 18055002 OSTALI PROJEKTI U OSNOVNOM ŠKOLSTVU | B23: =B24+B27+B30+B34 -> 78318.18 | C23: =C24+C27+C30+C34 -> 36530 | D23: =D24+D27+D30+D34 -> 34330 | E23: =E24+E27+E30+E34 -> 34330 | F23: =F24+F27+F30+F34 -> 34330
A24: Izvor: 11 Opći prihodi i primici | B24: =SUM(B25:B26) -> 70898.99 | C24: =SUM(C25:C26) -> 30500 | D24: =SUM(D25:D26) -> 8300 | E24: =SUM(E25:E26) -> 8300 | F24: =SUM(F25:F26) -> 8300
A25: 32 Materijalni rashodi | B25: =SUMIFS('Podaci 5. razina'!$J$4:$J$140,'Podaci 5. razina'!$B$4:$B$140,"18055002",'Podaci 5. razina'!$D$4:$D$140,"11",'Podaci 5. razina'!$I$4:$I$140,"32") -> 52000.39 | C25: =SUMIFS('Podaci 5. razina'!$K$4:$K$140,'Podaci 5. razina'!$B$4:$B$140,"18055002",'Podaci 5. razina'!$D$4:$D$140,"11",'Podaci 5. razina'!$I$4:$I$140,"32") -> 30500 | D25: =SUMIFS('Podaci 5. razina'!$L$4:$L$140,'Podaci 5. razina'!$B$4:$B$140,"18055002",'Podaci 5. razina'!$D$4:$D$140,"11",'Podaci 5. razina'!$I$4:$I$140,"32") -> 8300 | E25: =SUMIFS('Podaci 5. razina'!$M$4:$M$140,'Podaci 5. razina'!$B$4:$B$140,"18055002",'Podaci 5. razina'!$D$4:$D$140,"11",'Podaci 5. razina'!$I$4:$I$140,"32") -> 8300 | F25: =SUMIFS('Podaci 5. razina'!$N$4:$N$140,'Podaci 5. razina'!$B$4:$B$140,"18055002",'Podaci 5. razina'!$D$4:$D$140,"11",'Podaci 5. razina'!$I$4:$I$140,"32") -> 8300
A26: 37 Naknade građanima i kućanstvima na temelju osiguranja i druge naknade | B26: =SUMIFS('Podaci 5. razina'!$J$4:$J$140,'Podaci 5. razina'!$B$4:$B$140,"18055002",'Podaci 5. razina'!$D$4:$D$140,"11",'Podaci 5. razina'!$I$4:$I$140,"37") -> 18898.6 | C26: =SUMIFS('Podaci 5. razina'!$K$4:$K$140,'Podaci 5. razina'!$B$4:$B$140,"18055002",'Podaci 5. razina'!$D$4:$D$140,"11",'Podaci 5. razina'!$I$4:$I$140,"37") -> 0 | D26: =SUMIFS('Podaci 5. razina'!$L$4:$L$140,'Podaci 5. razina'!$B$4:$B$140,"18055002",'Podaci 5. razina'!$D$4:$D$140,"11",'Podaci 5. razina'!$I$4:$I$140,"37") -> 0 | E26: =SUMIFS('Podaci 5. razina'!$M$4:$M$140,'Podaci 5. razina'!$B$4:$B$140,"18055002",'Podaci 5. razina'!$D$4:$D$140,"11",'Podaci 5. razina'!$I$4:$I$140,"37") -> 0 | F26: =SUMIFS('Podaci 5. razina'!$N$4:$N$140,'Podaci 5. razina'!$B$4:$B$140,"18055002",'Podaci 5. razina'!$D$4:$D$140,"11",'Podaci 5. razina'!$I$4:$I$140,"37") -> 0
A27: Izvor: 312 Vlastiti prihodi proračunskih korisnika | B27: =SUM(B28:B29) -> 1.23 | C27: =SUM(C28:C29) -> 100 | D27: =SUM(D28:D29) -> 20100 | E27: =SUM(E28:E29) -> 20100 | F27: =SUM(F28:F29) -> 20100
A28: 32 Materijalni rashodi | B28: =SUMIFS('Podaci 5. razina'!$J$4:$J$140,'Podaci 5. razina'!$B$4:$B$140,"18055002",'Podaci 5. razina'!$D$4:$D$140,"312",'Podaci 5. razina'!$I$4:$I$140,"32") -> 0 | C28: =SUMIFS('Podaci 5. razina'!$K$4:$K$140,'Podaci 5. razina'!$B$4:$B$140,"18055002",'Podaci 5. razina'!$D$4:$D$140,"312",'Podaci 5. razina'!$I$4:$I$140,"32") -> 10 | D28: =SUMIFS('Podaci 5. razina'!$L$4:$L$140,'Podaci 5. razina'!$B$4:$B$140,"18055002",'Podaci 5. razina'!$D$4:$D$140,"312",'Podaci 5. razina'!$I$4:$I$140,"32") -> 5010 | E28: =SUMIFS('Podaci 5. razina'!$M$4:$M$140,'Podaci 5. razina'!$B$4:$B$140,"18055002",'Podaci 5. razina'!$D$4:$D$140,"312",'Podaci 5. razina'!$I$4:$I$140,"32") -> 5010 | F28: =SUMIFS('Podaci 5. razina'!$N$4:$N$140,'Podaci 5. razina'!$B$4:$B$140,"18055002",'Podaci 5. razina'!$D$4:$D$140,"312",'Podaci 5. razina'!$I$4:$I$140,"32") -> 5010
A29: 42 Rashodi za nabavu proizvedene dugotrajne imovine | B29: =SUMIFS('Podaci 5. razina'!$J$4:$J$140,'Podaci 5. razina'!$B$4:$B$140,"18055002",'Podaci 5. razina'!$D$4:$D$140,"312",'Podaci 5. razina'!$I$4:$I$140,"42") -> 1.23 | C29: =SUMIFS('Podaci 5. razina'!$K$4:$K$140,'Podaci 5. razina'!$B$4:$B$140,"18055002",'Podaci 5. razina'!$D$4:$D$140,"312",'Podaci 5. razina'!$I$4:$I$140,"42") -> 90 | D29: =SUMIFS('Podaci 5. razina'!$L$4:$L$140,'Podaci 5. razina'!$B$4:$B$140,"18055002",'Podaci 5. razina'!$D$4:$D$140,"312",'Podaci 5. razina'!$I$4:$I$140,"42") -> 15090 | E29: =SUMIFS('Podaci 5. razina'!$M$4:$M$140,'Podaci 5. razina'!$B$4:$B$140,"18055002",'Podaci 5. razina'!$D$4:$D$140,"312",'Podaci 5. razina'!$I$4:$I$140,"42") -> 15090 | F29: =SUMIFS('Podaci 5. razina'!$N$4:$N$140,'Podaci 5. razina'!$B$4:$B$140,"18055002",'Podaci 5. razina'!$D$4:$D$140,"312",'Podaci 5. razina'!$I$4:$I$140,"42") -> 15090
A30: Izvor: 55 Donacije i ostali namjenski prihodi proračunskih korisnika | B30: =SUM(B31:B33) -> 4276.65 | C30: =SUM(C31:C33) -> 5930 | D30: =SUM(D31:D33) -> 5930 | E30: =SUM(E31:E33) -> 5930 | F30: =SUM(F31:F33) -> 5930
A31: 32 Materijalni rashodi | B31: =SUMIFS('Podaci 5. razina'!$J$4:$J$140,'Podaci 5. razina'!$B$4:$B$140,"18055002",'Podaci 5. razina'!$D$4:$D$140,"55",'Podaci 5. razina'!$I$4:$I$140,"32") -> 2959.66 | C31: =SUMIFS('Podaci 5. razina'!$K$4:$K$140,'Podaci 5. razina'!$B$4:$B$140,"18055002",'Podaci 5. razina'!$D$4:$D$140,"55",'Podaci 5. razina'!$I$4:$I$140,"32") -> 2500 | D31: =SUMIFS('Podaci 5. razina'!$L$4:$L$140,'Podaci 5. razina'!$B$4:$B$140,"18055002",'Podaci 5. razina'!$D$4:$D$140,"55",'Podaci 5. razina'!$I$4:$I$140,"32") -> 2500 | E31: =SUMIFS('Podaci 5. razina'!$M$4:$M$140,'Podaci 5. razina'!$B$4:$B$140,"18055002",'Podaci 5. razina'!$D$4:$D$140,"55",'Podaci 5. razina'!$I$4:$I$140,"32") -> 2500 | F31: =SUMIFS('Podaci 5. razina'!$N$4:$N$140,'Podaci 5. razina'!$B$4:$B$140,"18055002",'Podaci 5. razina'!$D$4:$D$140,"55",'Podaci 5. razina'!$I$4:$I$140,"32") -> 2500
A32: 38 Ostali rashodi | B32: =SUMIFS('Podaci 5. razina'!$J$4:$J$140,'Podaci 5. razina'!$B$4:$B$140,"18055002",'Podaci 5. razina'!$D$4:$D$140,"55",'Podaci 5. razina'!$I$4:$I$140,"38") -> 746.99 | C32: =SUMIFS('Podaci 5. razina'!$K$4:$K$140,'Podaci 5. razina'!$B$4:$B$140,"18055002",'Podaci 5. razina'!$D$4:$D$140,"55",'Podaci 5. razina'!$I$4:$I$140,"38") -> 730 | D32: =SUMIFS('Podaci 5. razina'!$L$4:$L$140,'Podaci 5. razina'!$B$4:$B$140,"18055002",'Podaci 5. razina'!$D$4:$D$140,"55",'Podaci 5. razina'!$I$4:$I$140,"38") -> 730 | E32: =SUMIFS('Podaci 5. razina'!$M$4:$M$140,'Podaci 5. razina'!$B$4:$B$140,"18055002",'Podaci 5. razina'!$D$4:$D$140,"55",'Podaci 5. razina'!$I$4:$I$140,"38") -> 730 | F32: =SUMIFS('Podaci 5. razina'!$N$4:$N$140,'Podaci 5. razina'!$B$4:$B$140,"18055002",'Podaci 5. razina'!$D$4:$D$140,"55",'Podaci 5. razina'!$I$4:$I$140,"38") -> 730
A33: 42 Rashodi za nabavu proizvedene dugotrajne imovine | B33: =SUMIFS('Podaci 5. razina'!$J$4:$J$140,'Podaci 5. razina'!$B$4:$B$140,"18055002",'Podaci 5. razina'!$D$4:$D$140,"55",'Podaci 5. razina'!$I$4:$I$140,"42") -> 570 | C33: =SUMIFS('Podaci 5. razina'!$K$4:$K$140,'Podaci 5. razina'!$B$4:$B$140,"18055002",'Podaci 5. razina'!$D$4:$D$140,"55",'Podaci 5. razina'!$I$4:$I$140,"42") -> 2700 | D33: =SUMIFS('Podaci 5. razina'!$L$4:$L$140,'Podaci 5. razina'!$B$4:$B$140,"18055002",'Podaci 5. razina'!$D$4:$D$140,"55",'Podaci 5. razina'!$I$4:$I$140,"42") -> 2700 | E33: =SUMIFS('Podaci 5. razina'!$M$4:$M$140,'Podaci 5. razina'!$B$4:$B$140,"18055002",'Podaci 5. razina'!$D$4:$D$140,"55",'Podaci 5. razina'!$I$4:$I$140,"42") -> 2700 | F33: =SUMIFS('Podaci 5. razina'!$N$4:$N$140,'Podaci 5. razina'!$B$4:$B$140,"18055002",'Podaci 5. razina'!$D$4:$D$140,"55",'Podaci 5. razina'!$I$4:$I$140,"42") -> 2700
A34: Izvor: 99 Višak/manjak prihoda proračunskih korisnika (stari izvor, samo izvršenje 2025.) | B34: =SUM(B35:B36) -> 3141.31 | C34: =SUM(C35:C36) -> 0 | D34: =SUM(D35:D36) -> 0 | E34: =SUM(E35:E36) -> 0 | F34: =SUM(F35:F36) -> 0
A35: 32 Materijalni rashodi | B35: =SUMIFS('Podaci 5. razina'!$J$4:$J$140,'Podaci 5. razina'!$B$4:$B$140,"18055002",'Podaci 5. razina'!$D$4:$D$140,"99",'Podaci 5. razina'!$I$4:$I$140,"32") -> 3087.31 | C35: =SUMIFS('Podaci 5. razina'!$K$4:$K$140,'Podaci 5. razina'!$B$4:$B$140,"18055002",'Podaci 5. razina'!$D$4:$D$140,"99",'Podaci 5. razina'!$I$4:$I$140,"32") -> 0 | D35: =SUMIFS('Podaci 5. razina'!$L$4:$L$140,'Podaci 5. razina'!$B$4:$B$140,"18055002",'Podaci 5. razina'!$D$4:$D$140,"99",'Podaci 5. razina'!$I$4:$I$140,"32") -> 0 | E35: =SUMIFS('Podaci 5. razina'!$M$4:$M$140,'Podaci 5. razina'!$B$4:$B$140,"18055002",'Podaci 5. razina'!$D$4:$D$140,"99",'Podaci 5. razina'!$I$4:$I$140,"32") -> 0 | F35: =SUMIFS('Podaci 5. razina'!$N$4:$N$140,'Podaci 5. razina'!$B$4:$B$140,"18055002",'Podaci 5. razina'!$D$4:$D$140,"99",'Podaci 5. razina'!$I$4:$I$140,"32") -> 0
A36: 42 Rashodi za nabavu proizvedene dugotrajne imovine | B36: =SUMIFS('Podaci 5. razina'!$J$4:$J$140,'Podaci 5. razina'!$B$4:$B$140,"18055002",'Podaci 5. razina'!$D$4:$D$140,"99",'Podaci 5. razina'!$I$4:$I$140,"42") -> 54 | C36: =SUMIFS('Podaci 5. razina'!$K$4:$K$140,'Podaci 5. razina'!$B$4:$B$140,"18055002",'Podaci 5. razina'!$D$4:$D$140,"99",'Podaci 5. razina'!$I$4:$I$140,"42") -> 0 | D36: =SUMIFS('Podaci 5. razina'!$L$4:$L$140,'Podaci 5. razina'!$B$4:$B$140,"18055002",'Podaci 5. razina'!$D$4:$D$140,"99",'Podaci 5. razina'!$I$4:$I$140,"42") -> 0 | E36: =SUMIFS('Podaci 5. razina'!$M$4:$M$140,'Podaci 5. razina'!$B$4:$B$140,"18055002",'Podaci 5. razina'!$D$4:$D$140,"99",'Podaci 5. razina'!$I$4:$I$140,"42") -> 0 | F36: =SUMIFS('Podaci 5. razina'!$N$4:$N$140,'Podaci 5. razina'!$B$4:$B$140,"18055002",'Podaci 5. razina'!$D$4:$D$140,"99",'Podaci 5. razina'!$I$4:$I$140,"42") -> 0
A37: 18055006 PRODUŽENI BORAVAK | B37: =B38+B42 -> 139840.41 | C37: =C38+C42 -> 143700 | D37: =D38+D42 -> 130600 | E37: =E38+E42 -> 130600 | F37: =F38+F42 -> 130600
A38: Izvor: 11 Opći prihodi i primici | B38: =SUM(B39:B41) -> 115196.31 | C38: =SUM(C39:C41) -> 123700 | D38: =SUM(D39:D41) -> 97600 | E38: =SUM(E39:E41) -> 97600 | F38: =SUM(F39:F41) -> 97600
A39: 31 Rashodi za zaposlene | B39: =SUMIFS('Podaci 5. razina'!$J$4:$J$140,'Podaci 5. razina'!$B$4:$B$140,"18055006",'Podaci 5. razina'!$D$4:$D$140,"11",'Podaci 5. razina'!$I$4:$I$140,"31") -> 83408.31 | C39: =SUMIFS('Podaci 5. razina'!$K$4:$K$140,'Podaci 5. razina'!$B$4:$B$140,"18055006",'Podaci 5. razina'!$D$4:$D$140,"11",'Podaci 5. razina'!$I$4:$I$140,"31") -> 86600 | D39: =SUMIFS('Podaci 5. razina'!$L$4:$L$140,'Podaci 5. razina'!$B$4:$B$140,"18055006",'Podaci 5. razina'!$D$4:$D$140,"11",'Podaci 5. razina'!$I$4:$I$140,"31") -> 61800 | E39: =SUMIFS('Podaci 5. razina'!$M$4:$M$140,'Podaci 5. razina'!$B$4:$B$140,"18055006",'Podaci 5. razina'!$D$4:$D$140,"11",'Podaci 5. razina'!$I$4:$I$140,"31") -> 61800 | F39: =SUMIFS('Podaci 5. razina'!$N$4:$N$140,'Podaci 5. razina'!$B$4:$B$140,"18055006",'Podaci 5. razina'!$D$4:$D$140,"11",'Podaci 5. razina'!$I$4:$I$140,"31") -> 61800
A40: 32 Materijalni rashodi | B40: =SUMIFS('Podaci 5. razina'!$J$4:$J$140,'Podaci 5. razina'!$B$4:$B$140,"18055006",'Podaci 5. razina'!$D$4:$D$140,"11",'Podaci 5. razina'!$I$4:$I$140,"32") -> 1126.75 | C40: =SUMIFS('Podaci 5. razina'!$K$4:$K$140,'Podaci 5. razina'!$B$4:$B$140,"18055006",'Podaci 5. razina'!$D$4:$D$140,"11",'Podaci 5. razina'!$I$4:$I$140,"32") -> 2100 | D40: =SUMIFS('Podaci 5. razina'!$L$4:$L$140,'Podaci 5. razina'!$B$4:$B$140,"18055006",'Podaci 5. razina'!$D$4:$D$140,"11",'Podaci 5. razina'!$I$4:$I$140,"32") -> 800 | E40: =SUMIFS('Podaci 5. razina'!$M$4:$M$140,'Podaci 5. razina'!$B$4:$B$140,"18055006",'Podaci 5. razina'!$D$4:$D$140,"11",'Podaci 5. razina'!$I$4:$I$140,"32") -> 800 | F40: =SUMIFS('Podaci 5. razina'!$N$4:$N$140,'Podaci 5. razina'!$B$4:$B$140,"18055006",'Podaci 5. razina'!$D$4:$D$140,"11",'Podaci 5. razina'!$I$4:$I$140,"32") -> 800
A41: 37 Naknade građanima i kućanstvima na temelju osiguranja i druge naknade | B41: =SUMIFS('Podaci 5. razina'!$J$4:$J$140,'Podaci 5. razina'!$B$4:$B$140,"18055006",'Podaci 5. razina'!$D$4:$D$140,"11",'Podaci 5. razina'!$I$4:$I$140,"37") -> 30661.25 | C41: =SUMIFS('Podaci 5. razina'!$K$4:$K$140,'Podaci 5. razina'!$B$4:$B$140,"18055006",'Podaci 5. razina'!$D$4:$D$140,"11",'Podaci 5. razina'!$I$4:$I$140,"37") -> 35000 | D41: =SUMIFS('Podaci 5. razina'!$L$4:$L$140,'Podaci 5. razina'!$B$4:$B$140,"18055006",'Podaci 5. razina'!$D$4:$D$140,"11",'Podaci 5. razina'!$I$4:$I$140,"37") -> 35000 | E41: =SUMIFS('Podaci 5. razina'!$M$4:$M$140,'Podaci 5. razina'!$B$4:$B$140,"18055006",'Podaci 5. razina'!$D$4:$D$140,"11",'Podaci 5. razina'!$I$4:$I$140,"37") -> 35000 | F41: =SUMIFS('Podaci 5. razina'!$N$4:$N$140,'Podaci 5. razina'!$B$4:$B$140,"18055006",'Podaci 5. razina'!$D$4:$D$140,"11",'Podaci 5. razina'!$I$4:$I$140,"37") -> 35000
A42: Izvor: 436 Ostali prihodi za posebne namjene | B42: =SUM(B43:B43) -> 24644.1 | C42: =SUM(C43:C43) -> 20000 | D42: =SUM(D43:D43) -> 33000 | E42: =SUM(E43:E43) -> 33000 | F42: =SUM(F43:F43) -> 33000
A43: 37 Naknade građanima i kućanstvima na temelju osiguranja i druge naknade | B43: =SUMIFS('Podaci 5. razina'!$J$4:$J$140,'Podaci 5. razina'!$B$4:$B$140,"18055006",'Podaci 5. razina'!$D$4:$D$140,"436",'Podaci 5. razina'!$I$4:$I$140,"37") -> 24644.1 | C43: =SUMIFS('Podaci 5. razina'!$K$4:$K$140,'Podaci 5. razina'!$B$4:$B$140,"18055006",'Podaci 5. razina'!$D$4:$D$140,"436",'Podaci 5. razina'!$I$4:$I$140,"37") -> 20000 | D43: =SUMIFS('Podaci 5. razina'!$L$4:$L$140,'Podaci 5. razina'!$B$4:$B$140,"18055006",'Podaci 5. razina'!$D$4:$D$140,"436",'Podaci 5. razina'!$I$4:$I$140,"37") -> 33000 | E43: =SUMIFS('Podaci 5. razina'!$M$4:$M$140,'Podaci 5. razina'!$B$4:$B$140,"18055006",'Podaci 5. razina'!$D$4:$D$140,"436",'Podaci 5. razina'!$I$4:$I$140,"37") -> 33000 | F43: =SUMIFS('Podaci 5. razina'!$N$4:$N$140,'Podaci 5. razina'!$B$4:$B$140,"18055006",'Podaci 5. razina'!$D$4:$D$140,"436",'Podaci 5. razina'!$I$4:$I$140,"37") -> 33000
A44: 18055021 TEKUĆE I INVESTICIJSKO ODRŽAVANJE IZNAD MINIMALNOG FINANCIJSKOG STANDARDA | B44: =B45+B47 -> 43800 | C44: =C45+C47 -> 94000 | D44: =D45+D47 -> 95000 | E44: =E45+E47 -> 95000 | F44: =F45+F47 -> 95000
A45: Izvor: 11 Opći prihodi i primici | B45: =SUM(B46:B46) -> 4160 | C45: =SUM(C46:C46) -> 94000 | D45: =SUM(D46:D46) -> 95000 | E45: =SUM(E46:E46) -> 95000 | F45: =SUM(F46:F46) -> 95000
A46: 32 Materijalni rashodi | B46: =SUMIFS('Podaci 5. razina'!$J$4:$J$140,'Podaci 5. razina'!$B$4:$B$140,"18055021",'Podaci 5. razina'!$D$4:$D$140,"11",'Podaci 5. razina'!$I$4:$I$140,"32") -> 4160 | C46: =SUMIFS('Podaci 5. razina'!$K$4:$K$140,'Podaci 5. razina'!$B$4:$B$140,"18055021",'Podaci 5. razina'!$D$4:$D$140,"11",'Podaci 5. razina'!$I$4:$I$140,"32") -> 94000 | D46: =SUMIFS('Podaci 5. razina'!$L$4:$L$140,'Podaci 5. razina'!$B$4:$B$140,"18055021",'Podaci 5. razina'!$D$4:$D$140,"11",'Podaci 5. razina'!$I$4:$I$140,"32") -> 95000 | E46: =SUMIFS('Podaci 5. razina'!$M$4:$M$140,'Podaci 5. razina'!$B$4:$B$140,"18055021",'Podaci 5. razina'!$D$4:$D$140,"11",'Podaci 5. razina'!$I$4:$I$140,"32") -> 95000 | F46: =SUMIFS('Podaci 5. razina'!$N$4:$N$140,'Podaci 5. razina'!$B$4:$B$140,"18055021",'Podaci 5. razina'!$D$4:$D$140,"11",'Podaci 5. razina'!$I$4:$I$140,"32") -> 95000
A47: Izvor: 92 Višak/manjak prihoda (stari izvor, samo izvršenje 2025.) | B47: =SUM(B48:B48) -> 39640 | C47: =SUM(C48:C48) -> 0 | D47: =SUM(D48:D48) -> 0 | E47: =SUM(E48:E48) -> 0 | F47: =SUM(F48:F48) -> 0
A48: 32 Materijalni rashodi | B48: =SUMIFS('Podaci 5. razina'!$J$4:$J$140,'Podaci 5. razina'!$B$4:$B$140,"18055021",'Podaci 5. razina'!$D$4:$D$140,"92",'Podaci 5. razina'!$I$4:$I$140,"32") -> 39640 | C48: =SUMIFS('Podaci 5. razina'!$K$4:$K$140,'Podaci 5. razina'!$B$4:$B$140,"18055021",'Podaci 5. razina'!$D$4:$D$140,"92",'Podaci 5. razina'!$I$4:$I$140,"32") -> 0 | D48: =SUMIFS('Podaci 5. razina'!$L$4:$L$140,'Podaci 5. razina'!$B$4:$B$140,"18055021",'Podaci 5. razina'!$D$4:$D$140,"92",'Podaci 5. razina'!$I$4:$I$140,"32") -> 0 | E48: =SUMIFS('Podaci 5. razina'!$M$4:$M$140,'Podaci 5. razina'!$B$4:$B$140,"18055021",'Podaci 5. razina'!$D$4:$D$140,"92",'Podaci 5. razina'!$I$4:$I$140,"32") -> 0 | F48: =SUMIFS('Podaci 5. razina'!$N$4:$N$140,'Podaci 5. razina'!$B$4:$B$140,"18055021",'Podaci 5. razina'!$D$4:$D$140,"92",'Podaci 5. razina'!$I$4:$I$140,"32") -> 0
A49: 18055023 STRUČNO RAZVOJNE SLUŽBE | B49: =B50 -> 31277.28 | C49: =C50 -> 33550 | D49: =D50 -> 33300 | E49: =E50 -> 33300 | F49: =F50 -> 33300
A50: Izvor: 11 Opći prihodi i primici | B50: =SUM(B51:B52) -> 31277.28 | C50: =SUM(C51:C52) -> 33550 | D50: =SUM(D51:D52) -> 33300 | E50: =SUM(E51:E52) -> 33300 | F50: =SUM(F51:F52) -> 33300
A51: 31 Rashodi za zaposlene | B51: =SUMIFS('Podaci 5. razina'!$J$4:$J$140,'Podaci 5. razina'!$B$4:$B$140,"18055023",'Podaci 5. razina'!$D$4:$D$140,"11",'Podaci 5. razina'!$I$4:$I$140,"31") -> 29624.64 | C51: =SUMIFS('Podaci 5. razina'!$K$4:$K$140,'Podaci 5. razina'!$B$4:$B$140,"18055023",'Podaci 5. razina'!$D$4:$D$140,"11",'Podaci 5. razina'!$I$4:$I$140,"31") -> 31600 | D51: =SUMIFS('Podaci 5. razina'!$L$4:$L$140,'Podaci 5. razina'!$B$4:$B$140,"18055023",'Podaci 5. razina'!$D$4:$D$140,"11",'Podaci 5. razina'!$I$4:$I$140,"31") -> 31600 | E51: =SUMIFS('Podaci 5. razina'!$M$4:$M$140,'Podaci 5. razina'!$B$4:$B$140,"18055023",'Podaci 5. razina'!$D$4:$D$140,"11",'Podaci 5. razina'!$I$4:$I$140,"31") -> 31600 | F51: =SUMIFS('Podaci 5. razina'!$N$4:$N$140,'Podaci 5. razina'!$B$4:$B$140,"18055023",'Podaci 5. razina'!$D$4:$D$140,"11",'Podaci 5. razina'!$I$4:$I$140,"31") -> 31600
A52: 32 Materijalni rashodi | B52: =SUMIFS('Podaci 5. razina'!$J$4:$J$140,'Podaci 5. razina'!$B$4:$B$140,"18055023",'Podaci 5. razina'!$D$4:$D$140,"11",'Podaci 5. razina'!$I$4:$I$140,"32") -> 1652.64 | C52: =SUMIFS('Podaci 5. razina'!$K$4:$K$140,'Podaci 5. razina'!$B$4:$B$140,"18055023",'Podaci 5. razina'!$D$4:$D$140,"11",'Podaci 5. razina'!$I$4:$I$140,"32") -> 1950 | D52: =SUMIFS('Podaci 5. razina'!$L$4:$L$140,'Podaci 5. razina'!$B$4:$B$140,"18055023",'Podaci 5. razina'!$D$4:$D$140,"11",'Podaci 5. razina'!$I$4:$I$140,"32") -> 1700 | E52: =SUMIFS('Podaci 5. razina'!$M$4:$M$140,'Podaci 5. razina'!$B$4:$B$140,"18055023",'Podaci 5. razina'!$D$4:$D$140,"11",'Podaci 5. razina'!$I$4:$I$140,"32") -> 1700 | F52: =SUMIFS('Podaci 5. razina'!$N$4:$N$140,'Podaci 5. razina'!$B$4:$B$140,"18055023",'Podaci 5. razina'!$D$4:$D$140,"11",'Podaci 5. razina'!$I$4:$I$140,"32") -> 1700
A53: 18055036 ASISTENT U NASTAVI | B53: =B54+B57 -> 53175.34 | C53: =C54+C57 -> 73920 | D53: =D54+D57 -> 58350 | E53: =E54+E57 -> 58350 | F53: =F54+F57 -> 58350
A54: Izvor: 11 Opći prihodi i primici | B54: =SUM(B55:B56) -> 27964.33 | C54: =SUM(C55:C56) -> 46700 | D54: =SUM(D55:D56) -> 32600 | E54: =SUM(E55:E56) -> 32600 | F54: =SUM(F55:F56) -> 32600
A55: 31 Rashodi za zaposlene | B55: =SUMIFS('Podaci 5. razina'!$J$4:$J$140,'Podaci 5. razina'!$B$4:$B$140,"18055036",'Podaci 5. razina'!$D$4:$D$140,"11",'Podaci 5. razina'!$I$4:$I$140,"31") -> 27276.05 | C55: =SUMIFS('Podaci 5. razina'!$K$4:$K$140,'Podaci 5. razina'!$B$4:$B$140,"18055036",'Podaci 5. razina'!$D$4:$D$140,"11",'Podaci 5. razina'!$I$4:$I$140,"31") -> 44300 | D55: =SUMIFS('Podaci 5. razina'!$L$4:$L$140,'Podaci 5. razina'!$B$4:$B$140,"18055036",'Podaci 5. razina'!$D$4:$D$140,"11",'Podaci 5. razina'!$I$4:$I$140,"31") -> 30200 | E55: =SUMIFS('Podaci 5. razina'!$M$4:$M$140,'Podaci 5. razina'!$B$4:$B$140,"18055036",'Podaci 5. razina'!$D$4:$D$140,"11",'Podaci 5. razina'!$I$4:$I$140,"31") -> 30200 | F55: =SUMIFS('Podaci 5. razina'!$N$4:$N$140,'Podaci 5. razina'!$B$4:$B$140,"18055036",'Podaci 5. razina'!$D$4:$D$140,"11",'Podaci 5. razina'!$I$4:$I$140,"31") -> 30200
A56: 32 Materijalni rashodi | B56: =SUMIFS('Podaci 5. razina'!$J$4:$J$140,'Podaci 5. razina'!$B$4:$B$140,"18055036",'Podaci 5. razina'!$D$4:$D$140,"11",'Podaci 5. razina'!$I$4:$I$140,"32") -> 688.28 | C56: =SUMIFS('Podaci 5. razina'!$K$4:$K$140,'Podaci 5. razina'!$B$4:$B$140,"18055036",'Podaci 5. razina'!$D$4:$D$140,"11",'Podaci 5. razina'!$I$4:$I$140,"32") -> 2400 | D56: =SUMIFS('Podaci 5. razina'!$L$4:$L$140,'Podaci 5. razina'!$B$4:$B$140,"18055036",'Podaci 5. razina'!$D$4:$D$140,"11",'Podaci 5. razina'!$I$4:$I$140,"32") -> 2400 | E56: =SUMIFS('Podaci 5. razina'!$M$4:$M$140,'Podaci 5. razina'!$B$4:$B$140,"18055036",'Podaci 5. razina'!$D$4:$D$140,"11",'Podaci 5. razina'!$I$4:$I$140,"32") -> 2400 | F56: =SUMIFS('Podaci 5. razina'!$N$4:$N$140,'Podaci 5. razina'!$B$4:$B$140,"18055036",'Podaci 5. razina'!$D$4:$D$140,"11",'Podaci 5. razina'!$I$4:$I$140,"32") -> 2400
A57: Izvor: 561 Europski socijalni fond plus | B57: =SUM(B58:B59) -> 25211.01 | C57: =SUM(C58:C59) -> 27220 | D57: =SUM(D58:D59) -> 25750 | E57: =SUM(E58:E59) -> 25750 | F57: =SUM(F58:F59) -> 25750
A58: 31 Rashodi za zaposlene | B58: =SUMIFS('Podaci 5. razina'!$J$4:$J$140,'Podaci 5. razina'!$B$4:$B$140,"18055036",'Podaci 5. razina'!$D$4:$D$140,"561",'Podaci 5. razina'!$I$4:$I$140,"31") -> 24137 | C58: =SUMIFS('Podaci 5. razina'!$K$4:$K$140,'Podaci 5. razina'!$B$4:$B$140,"18055036",'Podaci 5. razina'!$D$4:$D$140,"561",'Podaci 5. razina'!$I$4:$I$140,"31") -> 26000 | D58: =SUMIFS('Podaci 5. razina'!$L$4:$L$140,'Podaci 5. razina'!$B$4:$B$140,"18055036",'Podaci 5. razina'!$D$4:$D$140,"561",'Podaci 5. razina'!$I$4:$I$140,"31") -> 24500 | E58: =SUMIFS('Podaci 5. razina'!$M$4:$M$140,'Podaci 5. razina'!$B$4:$B$140,"18055036",'Podaci 5. razina'!$D$4:$D$140,"561",'Podaci 5. razina'!$I$4:$I$140,"31") -> 24500 | F58: =SUMIFS('Podaci 5. razina'!$N$4:$N$140,'Podaci 5. razina'!$B$4:$B$140,"18055036",'Podaci 5. razina'!$D$4:$D$140,"561",'Podaci 5. razina'!$I$4:$I$140,"31") -> 24500
A59: 32 Materijalni rashodi | B59: =SUMIFS('Podaci 5. razina'!$J$4:$J$140,'Podaci 5. razina'!$B$4:$B$140,"18055036",'Podaci 5. razina'!$D$4:$D$140,"561",'Podaci 5. razina'!$I$4:$I$140,"32") -> 1074.01 | C59: =SUMIFS('Podaci 5. razina'!$K$4:$K$140,'Podaci 5. razina'!$B$4:$B$140,"18055036",'Podaci 5. razina'!$D$4:$D$140,"561",'Podaci 5. razina'!$I$4:$I$140,"32") -> 1220 | D59: =SUMIFS('Podaci 5. razina'!$L$4:$L$140,'Podaci 5. razina'!$B$4:$B$140,"18055036",'Podaci 5. razina'!$D$4:$D$140,"561",'Podaci 5. razina'!$I$4:$I$140,"32") -> 1250 | E59: =SUMIFS('Podaci 5. razina'!$M$4:$M$140,'Podaci 5. razina'!$B$4:$B$140,"18055036",'Podaci 5. razina'!$D$4:$D$140,"561",'Podaci 5. razina'!$I$4:$I$140,"32") -> 1250 | F59: =SUMIFS('Podaci 5. razina'!$N$4:$N$140,'Podaci 5. razina'!$B$4:$B$140,"18055036",'Podaci 5. razina'!$D$4:$D$140,"561",'Podaci 5. razina'!$I$4:$I$140,"32") -> 1250
A60: 18055039 NABAVA ŠKOLSKIH UDŽBENIKA | B60: =B61 -> 20334.51 | C60: =C61 -> 21000 | D60: =D61 -> 22000 | E60: =E61 -> 22000 | F60: =F61 -> 22000
A61: Izvor: 5011 Pomoći iz državnog proračuna kroz opće prihode i primitke | B61: =SUM(B62:B62) -> 20334.51 | C61: =SUM(C62:C62) -> 21000 | D61: =SUM(D62:D62) -> 22000 | E61: =SUM(E62:E62) -> 22000 | F61: =SUM(F62:F62) -> 22000
A62: 42 Rashodi za nabavu proizvedene dugotrajne imovine | B62: =SUMIFS('Podaci 5. razina'!$J$4:$J$140,'Podaci 5. razina'!$B$4:$B$140,"18055039",'Podaci 5. razina'!$D$4:$D$140,"5011",'Podaci 5. razina'!$I$4:$I$140,"42") -> 20334.51 | C62: =SUMIFS('Podaci 5. razina'!$K$4:$K$140,'Podaci 5. razina'!$B$4:$B$140,"18055039",'Podaci 5. razina'!$D$4:$D$140,"5011",'Podaci 5. razina'!$I$4:$I$140,"42") -> 21000 | D62: =SUMIFS('Podaci 5. razina'!$L$4:$L$140,'Podaci 5. razina'!$B$4:$B$140,"18055039",'Podaci 5. razina'!$D$4:$D$140,"5011",'Podaci 5. razina'!$I$4:$I$140,"42") -> 22000 | E62: =SUMIFS('Podaci 5. razina'!$M$4:$M$140,'Podaci 5. razina'!$B$4:$B$140,"18055039",'Podaci 5. razina'!$D$4:$D$140,"5011",'Podaci 5. razina'!$I$4:$I$140,"42") -> 22000 | F62: =SUMIFS('Podaci 5. razina'!$N$4:$N$140,'Podaci 5. razina'!$B$4:$B$140,"18055039",'Podaci 5. razina'!$D$4:$D$140,"5011",'Podaci 5. razina'!$I$4:$I$140,"42") -> 22000
A63: 18055040 SHEMA ŠKOLSKOG VOĆA | B63: =B64 -> 1820 | C63: =C64 -> 2000 | D63: =D64 -> 2000 | E63: =E64 -> 2000 | F63: =F64 -> 2000
A64: Izvor: 565 Europski poljoprivredni fond za ruralni razvoj | B64: =SUM(B65:B65) -> 1820 | C64: =SUM(C65:C65) -> 2000 | D64: =SUM(D65:D65) -> 2000 | E64: =SUM(E65:E65) -> 2000 | F64: =SUM(F65:F65) -> 2000
A65: 32 Materijalni rashodi | B65: =SUMIFS('Podaci 5. razina'!$J$4:$J$140,'Podaci 5. razina'!$B$4:$B$140,"18055040",'Podaci 5. razina'!$D$4:$D$140,"565",'Podaci 5. razina'!$I$4:$I$140,"32") -> 1820 | C65: =SUMIFS('Podaci 5. razina'!$K$4:$K$140,'Podaci 5. razina'!$B$4:$B$140,"18055040",'Podaci 5. razina'!$D$4:$D$140,"565",'Podaci 5. razina'!$I$4:$I$140,"32") -> 2000 | D65: =SUMIFS('Podaci 5. razina'!$L$4:$L$140,'Podaci 5. razina'!$B$4:$B$140,"18055040",'Podaci 5. razina'!$D$4:$D$140,"565",'Podaci 5. razina'!$I$4:$I$140,"32") -> 2000 | E65: =SUMIFS('Podaci 5. razina'!$M$4:$M$140,'Podaci 5. razina'!$B$4:$B$140,"18055040",'Podaci 5. razina'!$D$4:$D$140,"565",'Podaci 5. razina'!$I$4:$I$140,"32") -> 2000 | F65: =SUMIFS('Podaci 5. razina'!$N$4:$N$140,'Podaci 5. razina'!$B$4:$B$140,"18055040",'Podaci 5. razina'!$D$4:$D$140,"565",'Podaci 5. razina'!$I$4:$I$140,"32") -> 2000
A66: 18055043 PREHRANA ZA UČENIKE U OSNOVNIM ŠKOLAMA | B66: =B67+B72 -> 76688.03 | C66: =C67+C72 -> 90000 | D66: =D67+D72 -> 109000 | E66: =E67+E72 -> 109000 | F66: =F67+F72 -> 109000
A67: Izvor: 11 Opći prihodi i primici | B67: =SUM(B68:B71) -> 19280.69 | C67: =SUM(C68:C71) -> 0 | D67: =SUM(D68:D71) -> 17000 | E67: =SUM(E68:E71) -> 17000 | F67: =SUM(F68:F71) -> 17000
A68: 31 Rashodi za zaposlene | B68: =SUMIFS('Podaci 5. razina'!$J$4:$J$140,'Podaci 5. razina'!$B$4:$B$140,"18055043",'Podaci 5. razina'!$D$4:$D$140,"11",'Podaci 5. razina'!$I$4:$I$140,"31") -> 5074.06 | C68: =SUMIFS('Podaci 5. razina'!$K$4:$K$140,'Podaci 5. razina'!$B$4:$B$140,"18055043",'Podaci 5. razina'!$D$4:$D$140,"11",'Podaci 5. razina'!$I$4:$I$140,"31") -> 0 | D68: =SUMIFS('Podaci 5. razina'!$L$4:$L$140,'Podaci 5. razina'!$B$4:$B$140,"18055043",'Podaci 5. razina'!$D$4:$D$140,"11",'Podaci 5. razina'!$I$4:$I$140,"31") -> 0 | E68: =SUMIFS('Podaci 5. razina'!$M$4:$M$140,'Podaci 5. razina'!$B$4:$B$140,"18055043",'Podaci 5. razina'!$D$4:$D$140,"11",'Podaci 5. razina'!$I$4:$I$140,"31") -> 0 | F68: =SUMIFS('Podaci 5. razina'!$N$4:$N$140,'Podaci 5. razina'!$B$4:$B$140,"18055043",'Podaci 5. razina'!$D$4:$D$140,"11",'Podaci 5. razina'!$I$4:$I$140,"31") -> 0
A69: 32 Materijalni rashodi | B69: =SUMIFS('Podaci 5. razina'!$J$4:$J$140,'Podaci 5. razina'!$B$4:$B$140,"18055043",'Podaci 5. razina'!$D$4:$D$140,"11",'Podaci 5. razina'!$I$4:$I$140,"32") -> 2806.63 | C69: =SUMIFS('Podaci 5. razina'!$K$4:$K$140,'Podaci 5. razina'!$B$4:$B$140,"18055043",'Podaci 5. razina'!$D$4:$D$140,"11",'Podaci 5. razina'!$I$4:$I$140,"32") -> 0 | D69: =SUMIFS('Podaci 5. razina'!$L$4:$L$140,'Podaci 5. razina'!$B$4:$B$140,"18055043",'Podaci 5. razina'!$D$4:$D$140,"11",'Podaci 5. razina'!$I$4:$I$140,"32") -> 0 | E69: =SUMIFS('Podaci 5. razina'!$M$4:$M$140,'Podaci 5. razina'!$B$4:$B$140,"18055043",'Podaci 5. razina'!$D$4:$D$140,"11",'Podaci 5. razina'!$I$4:$I$140,"32") -> 0 | F69: =SUMIFS('Podaci 5. razina'!$N$4:$N$140,'Podaci 5. razina'!$B$4:$B$140,"18055043",'Podaci 5. razina'!$D$4:$D$140,"11",'Podaci 5. razina'!$I$4:$I$140,"32") -> 0
A70: 37 Naknade građanima i kućanstvima na temelju osiguranja i druge naknade | B70: =SUMIFS('Podaci 5. razina'!$J$4:$J$140,'Podaci 5. razina'!$B$4:$B$140,"18055043",'Podaci 5. razina'!$D$4:$D$140,"11",'Podaci 5. razina'!$I$4:$I$140,"37") -> 1800 | C70: =SUMIFS('Podaci 5. razina'!$K$4:$K$140,'Podaci 5. razina'!$B$4:$B$140,"18055043",'Podaci 5. razina'!$D$4:$D$140,"11",'Podaci 5. razina'!$I$4:$I$140,"37") -> 0 | D70: =SUMIFS('Podaci 5. razina'!$L$4:$L$140,'Podaci 5. razina'!$B$4:$B$140,"18055043",'Podaci 5. razina'!$D$4:$D$140,"11",'Podaci 5. razina'!$I$4:$I$140,"37") -> 17000 | E70: =SUMIFS('Podaci 5. razina'!$M$4:$M$140,'Podaci 5. razina'!$B$4:$B$140,"18055043",'Podaci 5. razina'!$D$4:$D$140,"11",'Podaci 5. razina'!$I$4:$I$140,"37") -> 17000 | F70: =SUMIFS('Podaci 5. razina'!$N$4:$N$140,'Podaci 5. razina'!$B$4:$B$140,"18055043",'Podaci 5. razina'!$D$4:$D$140,"11",'Podaci 5. razina'!$I$4:$I$140,"37") -> 17000
A71: 42 Rashodi za nabavu proizvedene dugotrajne imovine | B71: =SUMIFS('Podaci 5. razina'!$J$4:$J$140,'Podaci 5. razina'!$B$4:$B$140,"18055043",'Podaci 5. razina'!$D$4:$D$140,"11",'Podaci 5. razina'!$I$4:$I$140,"42") -> 9600 | C71: =SUMIFS('Podaci 5. razina'!$K$4:$K$140,'Podaci 5. razina'!$B$4:$B$140,"18055043",'Podaci 5. razina'!$D$4:$D$140,"11",'Podaci 5. razina'!$I$4:$I$140,"42") -> 0 | D71: =SUMIFS('Podaci 5. razina'!$L$4:$L$140,'Podaci 5. razina'!$B$4:$B$140,"18055043",'Podaci 5. razina'!$D$4:$D$140,"11",'Podaci 5. razina'!$I$4:$I$140,"42") -> 0 | E71: =SUMIFS('Podaci 5. razina'!$M$4:$M$140,'Podaci 5. razina'!$B$4:$B$140,"18055043",'Podaci 5. razina'!$D$4:$D$140,"11",'Podaci 5. razina'!$I$4:$I$140,"42") -> 0 | F71: =SUMIFS('Podaci 5. razina'!$N$4:$N$140,'Podaci 5. razina'!$B$4:$B$140,"18055043",'Podaci 5. razina'!$D$4:$D$140,"11",'Podaci 5. razina'!$I$4:$I$140,"42") -> 0
A72: Izvor: 5011 Pomoći iz državnog proračuna kroz opće prihode i primitke | B72: =SUM(B73:B73) -> 57407.34 | C72: =SUM(C73:C73) -> 90000 | D72: =SUM(D73:D73) -> 92000 | E72: =SUM(E73:E73) -> 92000 | F72: =SUM(F73:F73) -> 92000
A73: 32 Materijalni rashodi | B73: =SUMIFS('Podaci 5. razina'!$J$4:$J$140,'Podaci 5. razina'!$B$4:$B$140,"18055043",'Podaci 5. razina'!$D$4:$D$140,"5011",'Podaci 5. razina'!$I$4:$I$140,"32") -> 57407.34 | C73: =SUMIFS('Podaci 5. razina'!$K$4:$K$140,'Podaci 5. razina'!$B$4:$B$140,"18055043",'Podaci 5. razina'!$D$4:$D$140,"5011",'Podaci 5. razina'!$I$4:$I$140,"32") -> 90000 | D73: =SUMIFS('Podaci 5. razina'!$L$4:$L$140,'Podaci 5. razina'!$B$4:$B$140,"18055043",'Podaci 5. razina'!$D$4:$D$140,"5011",'Podaci 5. razina'!$I$4:$I$140,"32") -> 92000 | E73: =SUMIFS('Podaci 5. razina'!$M$4:$M$140,'Podaci 5. razina'!$B$4:$B$140,"18055043",'Podaci 5. razina'!$D$4:$D$140,"5011",'Podaci 5. razina'!$I$4:$I$140,"32") -> 92000 | F73: =SUMIFS('Podaci 5. razina'!$N$4:$N$140,'Podaci 5. razina'!$B$4:$B$140,"18055043",'Podaci 5. razina'!$D$4:$D$140,"5011",'Podaci 5. razina'!$I$4:$I$140,"32") -> 92000
A74: Program: 18056 KAPITALNO ULAGANJE U ŠKOLSTVO – MINIMALNI FINANCIJSKI STANDARD | B74: =B75 -> 5970 | C74: =C75 -> 5970 | D74: =D75 -> 5970 | E74: =E75 -> 5970 | F74: =F75 -> 5970
A75: 18056002 ŠKOLSKA OPREMA | B75: =B76 -> 5970 | C75: =C76 -> 5970 | D75: =D76 -> 5970 | E75: =E76 -> 5970 | F75: =F76 -> 5970
A76: Izvor: 5011 Pomoći iz državnog proračuna kroz opće prihode i primitke | B76: =SUM(B77:B77) -> 5970 | C76: =SUM(C77:C77) -> 5970 | D76: =SUM(D77:D77) -> 5970 | E76: =SUM(E77:E77) -> 5970 | F76: =SUM(F77:F77) -> 5970
A77: 42 Rashodi za nabavu proizvedene dugotrajne imovine | B77: =SUMIFS('Podaci 5. razina'!$J$4:$J$140,'Podaci 5. razina'!$B$4:$B$140,"18056002",'Podaci 5. razina'!$D$4:$D$140,"5011",'Podaci 5. razina'!$I$4:$I$140,"42") -> 5970 | C77: =SUMIFS('Podaci 5. razina'!$K$4:$K$140,'Podaci 5. razina'!$B$4:$B$140,"18056002",'Podaci 5. razina'!$D$4:$D$140,"5011",'Podaci 5. razina'!$I$4:$I$140,"42") -> 5970 | D77: =SUMIFS('Podaci 5. razina'!$L$4:$L$140,'Podaci 5. razina'!$B$4:$B$140,"18056002",'Podaci 5. razina'!$D$4:$D$140,"5011",'Podaci 5. razina'!$I$4:$I$140,"42") -> 5970 | E77: =SUMIFS('Podaci 5. razina'!$M$4:$M$140,'Podaci 5. razina'!$B$4:$B$140,"18056002",'Podaci 5. razina'!$D$4:$D$140,"5011",'Podaci 5. razina'!$I$4:$I$140,"42") -> 5970 | F77: =SUMIFS('Podaci 5. razina'!$N$4:$N$140,'Podaci 5. razina'!$B$4:$B$140,"18056002",'Podaci 5. razina'!$D$4:$D$140,"5011",'Podaci 5. razina'!$I$4:$I$140,"42") -> 5970
A78: Program: 18057 KAPITALNO ULAGANJE U ŠKOLSTVO – IZNAD MINIMALNOG FINANCIJSKOG STANDARDA | B78: =B79 -> 0 | C78: =C79 -> 140000 | D78: =D79 -> 250000 | E78: =E79 -> 0 | F78: =F79 -> 0
A79: Izvor: 11 Opći prihodi i primici | B79: =SUM(B80:B80) -> 0 | C79: =SUM(C80:C80) -> 140000 | D79: =SUM(D80:D80) -> 250000 | E79: =SUM(E80:E80) -> 0 | F79: =SUM(F80:F80) -> 0
A80: 42 Rashodi za nabavu proizvedene dugotrajne imovine | B80: =SUMIFS('Podaci 5. razina'!$J$4:$J$140,'Podaci 5. razina'!$B$4:$B$140,"18057",'Podaci 5. razina'!$D$4:$D$140,"11",'Podaci 5. razina'!$I$4:$I$140,"42") -> 0 | C80: =SUMIFS('Podaci 5. razina'!$K$4:$K$140,'Podaci 5. razina'!$B$4:$B$140,"18057",'Podaci 5. razina'!$D$4:$D$140,"11",'Podaci 5. razina'!$I$4:$I$140,"42") -> 140000 | D80: =SUMIFS('Podaci 5. razina'!$L$4:$L$140,'Podaci 5. razina'!$B$4:$B$140,"18057",'Podaci 5. razina'!$D$4:$D$140,"11",'Podaci 5. razina'!$I$4:$I$140,"42") -> 250000 | E80: =SUMIFS('Podaci 5. razina'!$M$4:$M$140,'Podaci 5. razina'!$B$4:$B$140,"18057",'Podaci 5. razina'!$D$4:$D$140,"11",'Podaci 5. razina'!$I$4:$I$140,"42") -> 0 | F80: =SUMIFS('Podaci 5. razina'!$N$4:$N$140,'Podaci 5. razina'!$B$4:$B$140,"18057",'Podaci 5. razina'!$D$4:$D$140,"11",'Podaci 5. razina'!$I$4:$I$140,"42") -> 0
A82: Kontrola: Posebni dio – Opći dio (rashodi) | B82: =B6-' Račun prihoda i rashoda'!D33 -> 0 | C82: =C6-' Račun prihoda i rashoda'!E33 -> 0 | D82: =D6-' Račun prihoda i rashoda'!F33 -> 0 | E82: =E6-' Račun prihoda i rashoda'!G33 -> 0 | F82: =F6-' Račun prihoda i rashoda'!H33 -> 0

Sheet Podaci 5. razina
A1: PODLOGA – plan na 5. razini (konsolidirani, proračunski + vanproračunski) s novim izvorima financiranja
A3: Program | B3: Aktivnost | C3: Naziv aktivnosti | D3: Izvor (novi) | E3: Izvor (stari) | F3: Konto | G3: Naziv konta | H3: Razred | I3: Skupina | J3: Izvršenje 2025. | K3: Plan 2026. | L3: Plan 2027. | M3: Projekcija 2028. | N3: Projekcija 2029.
A4: 18054 | B4: 18054001 | C4: MATERIJALNI I FINANCIJSKI RASHODI | D4: 112 | E4: 31 | F4: 32 | G4: Materijalni rashodi (izvršenje 2025. – razina skupine) | H4: =LEFT(F4,1) -> 3 | I4: =LEFT(F4,2) -> 32 | J4: 71500 | K4: 0 | L4: 0 | M4: =L4 -> 0 | N4: =M4 -> 0
A5: 18054 | B5: 18054001 | C5: MATERIJALNI I FINANCIJSKI RASHODI | D5: 112 | E5: 31 | F5: 32111 | G5: Dnevnice za službeni put u zemlji | H5: =LEFT(F5,1) -> 3 | I5: =LEFT(F5,2) -> 32 | J5: 0 | K5: 2900 | L5: 2900 | M5: =L5 -> 2900 | N5: =M5 -> 2900
A6: 18054 | B6: 18054001 | C6: MATERIJALNI I FINANCIJSKI RASHODI | D6: 112 | E6: 31 | F6: 32113 | G6: Naknade za smještaj na službenom putu u zemlji | H6: =LEFT(F6,1) -> 3 | I6: =LEFT(F6,2) -> 32 | J6: 0 | K6: 1800 | L6: 1500 | M6: =L6 -> 1500 | N6: =M6 -> 1500
A7: 18054 | B7: 18054001 | C7: MATERIJALNI I FINANCIJSKI RASHODI | D7: 112 | E7: 31 | F7: 32115 | G7: Naknade za prijevoz na službenom putu u zemlji | H7: =LEFT(F7,1) -> 3 | I7: =LEFT(F7,2) -> 32 | J7: 0 | K7: 2000 | L7: 2000 | M7: =L7 -> 2000 | N7: =M7 -> 2000
A8: 18054 | B8: 18054001 | C8: MATERIJALNI I FINANCIJSKI RASHODI | D8: 112 | E8: 31 | F8: 32131 | G8: Seminari, savjetovanja i simpoziji | H8: =LEFT(F8,1) -> 3 | I8: =LEFT(F8,2) -> 32 | J8: 0 | K8: 600 | L8: 1000 | M8: =L8 -> 1000 | N8: =M8 -> 1000
A9: 18054 | B9: 18054001 | C9: MATERIJALNI I FINANCIJSKI RASHODI | D9: 112 | E9: 31 | F9: 32211 | G9: Uredski materijal | H9: =LEFT(F9,1) -> 3 | I9: =LEFT(F9,2) -> 32 | J9: 0 | K9: 2200 | L9: 2000 | M9: =L9 -> 2000 | N9: =M9 -> 2000
A10: 18054 | B10: 18054001 | C10: MATERIJALNI I FINANCIJSKI RASHODI | D10: 112 | E10: 31 | F10: 32212 | G10: Literatura (publikacije, časopisi, glasila, knjige i ostalo) | H10: =LEFT(F10,1) -> 3 | I10: =LEFT(F10,2) -> 32 | J10: 0 | K10: 1200 | L10: 1700 | M10: =L10 -> 1700 | N10: =M10 -> 1700
A11: 18054 | B11: 18054001 | C11: MATERIJALNI I FINANCIJSKI RASHODI | D11: 112 | E11: 31 | F11: 32214 | G11: Materijal i sredstva za čišćenje i održavanje | H11: =LEFT(F11,1) -> 3 | I11: =LEFT(F11,2) -> 32 | J11: 0 | K11: 2200 | L11: 1600 | M11: =L11 -> 1600 | N11: =M11 -> 1600
A12: 18054 | B12: 18054001 | C12: MATERIJALNI I FINANCIJSKI RASHODI | D12: 112 | E12: 31 | F12: 32216 | G12: Materijal za higijenske potrebe i njegu | H12: =LEFT(F12,1) -> 3 | I12: =LEFT(F12,2) -> 32 | J12: 0 | K12: 2000 | L12: 1100 | M12: =L12 -> 1100 | N12: =M12 -> 1100
A13: 18054 | B13: 18054001 | C13: MATERIJALNI I FINANCIJSKI RASHODI | D13: 112 | E13: 31 | F13: 32219 | G13: Ostali materijal za potrebe redovnog poslovanja | H13: =LEFT(F13,1) -> 3 | I13: =LEFT(F13,2) -> 32 | J13: 0 | K13: 2500 | L13: 3000 | M13: =L13 -> 3000 | N13: =M13 -> 3000
A14: 18054 | B14: 18054001 | C14: MATERIJALNI I FINANCIJSKI RASHODI | D14: 112 | E14: 31 | F14: 32241 | G14: Materijal i dijelovi za tekuće i inveticijsko održavanje građevinskih objekata | H14: =LEFT(F14,1) -> 3 | I14: =LEFT(F14,2) -> 32 | J14: 0 | K14: 1800 | L14: 1000 | M14: =L14 -> 1000 | N14: =M14 -> 1000
A15: 18054 | B15: 18054001 | C15: MATERIJALNI I FINANCIJSKI RASHODI | D15: 112 | E15: 31 | F15: 32242 | G15: Materijal i dijelovi za tekuće i investicijsko održavanje postrojenja i opreme | H15: =LEFT(F15,1) -> 3 | I15: =LEFT(F15,2) -> 32 | J15: 0 | K15: 1800 | L15: 1000 | M15: =L15 -> 1000 | N15: =M15 -> 1000
... A58: 18055 | B58: 18055002 | C58: OSTALI PROJEKTI U OSNOVNOM ŠKOLSTVU | D58: 11 | E58: 11 | F58: 32322 | G58: Usluge tekućeg i investicijskog održavanja postrojenja i opreme | H58: =LEFT(F58,1) -> 3 | I58: =LEFT(F58,2) -> 32 | J58: 0 | K58: 3500 | L58: 3500 | M58: =L58 -> 3500 | N58: =M58 -> 3500
A59: 18055 | B59: 18055002 | C59: OSTALI PROJEKTI U OSNOVNOM ŠKOLSTVU | D59: 11 | F59: 32371 | G59: autorski honorar | H59: =LEFT(F59,1) -> 3 | I59: =LEFT(F59,2) -> 32 | J59: 0 | K59: 0 | L59: 300 | M59: =L59 -> 300 | N59: =M59 -> 300
A60: 18055 | B60: 18055002 | C60: OSTALI PROJEKTI U OSNOVNOM ŠKOLSTVU | D60: 11 | F60: 32391 | G60: Grafičke i tiskarske usluge, usluge kopiranja i uvezivanja i slično | H60: =LEFT(F60,1) -> 3 | I60: =LEFT(F60,2) -> 32 | J60: 0 | K60: 0 | L60: 1500 | M60: =L60 -> 1500 | N60: =M60 -> 1500
A61: 18055 | B61: 18055002 | C61: OSTALI PROJEKTI U OSNOVNOM ŠKOLSTVU | D61: 11 | E61: 11 | F61: 32396 | G61: Usluge čuvanja osoba i imovine | H61: =LEFT(F61,1) -> 3 | I61: =LEFT(F61,2) -> 32 | J61: 0 | K61: 12000 | L61: 0 | M61: =L61 -> 0 | N61: =M61 -> 0
A62: 18055 | B62: 18055002 | C62: OSTALI PROJEKTI U OSNOVNOM ŠKOLSTVU | D62: 11 | F62: 32999 | G62: Ostali nespomenuti rashodi poslovanja | H62: =LEFT(F62,1) -> 3 | I62: =LEFT(F62,2) -> 32 | J62: 0 | K62: 0 | L62: 1000 | M62: =L62 -> 1000 | N62: =M62 -> 1000
A63: 18055 | B63: 18055002 | C63: OSTALI PROJEKTI U OSNOVNOM ŠKOLSTVU | D63: 11 | E63: 11 | F63: 37 | G63: Naknade građanima i kućanstvima na temelju osiguranja i druge naknade (izvršenje 2025. – razina skupine) | H63: =LEFT(F63,1) -> 3 | I63: =LEFT(F63,2) -> 37 | J63: 18898.6 | K63: 0 | L63: 0 | M63: =L63 -> 0 | N63: =M63 -> 0
A64: 18055 | B64: 18055002 | C64: OSTALI PROJEKTI U OSNOVNOM ŠKOLSTVU | D64: 312 | F64: 32211 | G64: uredski materijal | H64: =LEFT(F64,1) -> 3 | I64: =LEFT(F64,2) -> 32 | J64: 0 | K64: 0 | L64: 1000 | M64: =L64 -> 1000 | N64: =M64 -> 1000
A65: 18055 | B65: 18055002 | C65: OSTALI PROJEKTI U OSNOVNOM ŠKOLSTVU | D65: 312 | E65: 25 | F65: 32219 | G65: Ostali materijal za potrebe redovnog poslovanja | H65: =LEFT(F65,1) -> 3 | I65: =LEFT(F65,2) -> 32 | J65: 0 | K65: 10 | L65: 4010 | M65: =L65 -> 4010 | N65: =M65 -> 4010
A66: 18055 | B66: 18055002 | C66: OSTALI PROJEKTI U OSNOVNOM ŠKOLSTVU | D66: 312 | E66: 25 | F66: 42 | G66: Rashodi za nabavu proizvedene dugotrajne imovine (izvršenje 2025. – razina skupine) | H66: =LEFT(F66,1) -> 4 | I66: =LEFT(F66,2) -> 42 | J66: 1.23 | K66: 0 | L66: 0 | M66: =L66 -> 0 | N66: =M66 -> 0
A67: 18055 | B67: 18055002 | C67: OSTALI PROJEKTI U OSNOVNOM ŠKOLSTVU | D67: 312 | F67: 42211 | G67: računala i računalna oprema | H67: =LEFT(F67,1) -> 4 | I67: =LEFT(F67,2) -> 42 | J67: 0 | K67: 0 | L67: 5000 | M67: =L67 -> 5000 | N67: =M67 -> 5000
A68: 18055 | B68: 18055002 | C68: OSTALI PROJEKTI U OSNOVNOM ŠKOLSTVU | D68: 312 | F68: 42212 | G68: uredski namještaj | H68: =LEFT(F68,1) -> 4 | I68: =LEFT(F68,2) -> 42 | J68: 0 | K68: 0 | L68: 10000 | M68: =L68 -> 10000 | N68: =M68 -> 10000
A69: 18055 | B69: 18055002 | C69: OSTALI PROJEKTI U OSNOVNOM ŠKOLSTVU | D69: 312 | E69: 25 | F69: 42411 | G69: Knjige u knjižnici | H69: =LEFT(F69,1) -> 4 | I69: =LEFT(F69,2) -> 42 | J69: 0 | K69: 90 | L69: 90 | M69: =L69 -> 90 | N69: =M69 -> 90
A70: 18055 | B70: 18055002 | C70: OSTALI PROJEKTI U OSNOVNOM ŠKOLSTVU | D70: 55 | E70: 55 | F70: 32 | G70: Materijalni rashodi (izvršenje 2025. – razina skupine) | H70: =LEFT(F70,1) -> 3 | I70: =LEFT(F70,2) -> 32 | J70: 2959.66 | K70: 0 | L70: 0 | M70: =L70 -> 0 | N70: =M70 -> 0
A71: 18055 | B71: 18055002 | C71: OSTALI PROJEKTI U OSNOVNOM ŠKOLSTVU | D71: 55 | E71: 55 | F71: 32219 | G71: Ostali materijal za potrebe redovnog poslovanja | H71: =LEFT(F71,1) -> 3 | I71: =LEFT(F71,2) -> 32 | J71: 0 | K71: 2500 | L71: 2500 | M71: =L71 -> 2500 | N71: =M71 -> 2500
A72: 18055 | B72: 18055002 | C72: OSTALI PROJEKTI U OSNOVNOM ŠKOLSTVU | D72: 55 | E72: 55 | F72: 38 | G72: Ostali rashodi (izvršenje 2025. – razina skupine) | H72: =LEFT(F72,1) -> 3 | I72: =LEFT(F72,2) -> 38 | J72: 746.99 | K72: 0 | L72: 0 | M72: =L72 -> 0 | N72: =M72 -> 0
A73: 18055 | B73: 18055002 | C73: OSTALI PROJEKTI U OSNOVNOM ŠKOLSTVU | D73: 55 | E73: 55 | F73: 38129 | G73: ostale donacije u naravi | H73: =LEFT(F73,1) -> 3 | I73: =LEFT(F73,2) -> 38 | J73: 0 | K73: 730 | L73: 730 | M73: =L73 -> 730 | N73: =M73 -> 730
A74: 18055 | B74: 18055002 | C74: OSTALI PROJEKTI U OSNOVNOM ŠKOLSTVU | D74: 55 | E74: 55 | F74: 42 | G74: Rashodi za nabavu proizvedene dugotrajne imovine (izvršenje 2025. – razina skupine) | H74: =LEFT(F74,1) -> 4 | I74: =LEFT(F74,2) -> 42 | J74: 570 | K74: 0 | L74: 0 | M74: =L74 -> 0 | N74: =M74 -> 0
A75: 18055 | B75: 18055002 | C75: OSTALI PROJEKTI U OSNOVNOM ŠKOLSTVU | D75: 55 | E75: 55 | F75: 42273 | G75: Oprema | H75: =LEFT(F75,1) -> 4 | I75: =LEFT(F75,2) -> 42 | J75: 0 | K75: 2000 | L75: 2000 | M75: =L75 -> 2000 | N75: =M75 -> 2000
A76: 18055 | B76: 18055002 | C76: OSTALI PROJEKTI U OSNOVNOM ŠKOLSTVU | D76: 55 | E76: 55 | F76: 42411 | G76: Knjige u knjižnici | H76: =LEFT(F76,1) -> 4 | I76: =LEFT(F76,2) -> 42 | J76: 0 | K76: 700 | L76: 700 | M76: =L76 -> 700 | N76: =M76 -> 700
A77: 18055 | B77: 18055002 | C77: OSTALI PROJEKTI U OSNOVNOM ŠKOLSTVU | D77: 99 | E77: 99 | F77: 32 | G77: Materijalni rashodi (izvršenje 2025. – razina skupine) | H77: =LEFT(F77,1) -> 3 | I77: =LEFT(F77,2) -> 32 | J77: 3087.31 | K77: 0 | L77: 0 | M77: =L77 -> 0 | N77: =M77 -> 0
A78: 18055 | B78: 18055002 | C78: OSTALI PROJEKTI U OSNOVNOM ŠKOLSTVU | D78: 99 | E78: 99 | F78: 42 | G78: Rashodi za nabavu proizvedene dugotrajne imovine (izvršenje 2025. – razina skupine) | H78: =LEFT(F78,1) -> 4 | I78: =LEFT(F78,2) -> 42 | J78: 54 | K78: 0 | L78: 0 | M78: =L78 -> 0 | N78: =M78 -> 0
A79: 18055 | B79: 18055006 | C79: PRODUŽENI BORAVAK | D79: 11 | E79: 11 | F79: 31 | G79: Rashodi za zaposlene (izvršenje 2025. – razina skupine) | H79: =LEFT(F79,1) -> 3 | I79: =LEFT(F79,2) -> 31 | J79: 83408.31 | K79: 0 | L79: 0 | M79: =L79 -> 0 | N79: =M79 -> 0
A80: 18055 | B80: 18055006 | C80: PRODUŽENI BORAVAK | D80: 11 | E80: 11 | F80: 31111 | G80: Plaće za zaposlene | H80: =LEFT(F80,1) -> 3 | I80: =LEFT(F80,2) -> 31 | J80: 0 | K80: 72000 | L80: 52000 | M80: =L80 -> 52000 | N80: =M80 -> 52000
... A112: 18055 | B112: 18055036 | C112: ASISTENT U NASTAVI | D112: 11 | E112: 11 | F112: 32 | G112: Materijalni rashodi (izvršenje 2025. – razina skupine) | H112: =LEFT(F112,1) -> 3 | I112: =LEFT(F112,2) -> 32 | J112: 688.28 | K112: 0 | L112: 0 | M112: =L112 -> 0 | N112: =M112 -> 0
A113: 18055 | B113: 18055036 | C113: ASISTENT U NASTAVI | D113: 11 | F113: 32111 | G113: Dnevnice za službeni put u zemlji | H113: =LEFT(F113,1) -> 3 | I113: =LEFT(F113,2) -> 32 | J113: 0 | K113: 0 | L113: 200 | M113: =L113 -> 200 | N113: =M113 -> 200
A114: 18055 | B114: 18055036 | C114: ASISTENT U NASTAVI | D114: 11 | E114: 11 | F114: 32121 | G114: Naknade za prijevoz na posao i s posla | H114: =LEFT(F114,1) -> 3 | I114: =LEFT(F114,2) -> 32 | J114: 0 | K114: 1200 | L114: 1000 | M114: =L114 -> 1000 | N114: =M114 -> 1000
A115: 18055 | B115: 18055036 | C115: ASISTENT U NASTAVI | D115: 11 | E115: 11 | F115: 32361 | G115: Obvezni i preventivni zdravstveni pregledi zaposlenika | H115: =LEFT(F115,1) -> 3 | I115: =LEFT(F115,2) -> 32 | J115: 0 | K115: 1200 | L115: 1200 | M115: =L115 -> 1200 | N115: =M115 -> 1200
A116: 18055 | B116: 18055036 | C116: ASISTENT U NASTAVI | D116: 561 | E116: 44 | F116: 31 | G116: Rashodi za zaposlene (izvršenje 2025. – razina skupine) | H116: =LEFT(F116,1) -> 3 | I116: =LEFT(F116,2) -> 31 | J116: 24137 | K116: 0 | L116: 0 | M116: =L116 -> 0 | N116: =M116 -> 0
A117: 18055 | B117: 18055036 | C117: ASISTENT U NASTAVI | D117: 561 | E117: 44 | F117: 31111 | G117: Plaće za zaposlene | H117: =LEFT(F117,1) -> 3 | I117: =LEFT(F117,2) -> 31 | J117: 0 | K117: 22200 | L117: 21000 | M117: =L117 -> 21000 | N117: =M117 -> 21000
A118: 18055 | B118: 18055036 | C118: ASISTENT U NASTAVI | D118: 561 | E118: 44 | F118: 31321 | G118: Doprinosi za obvezno zdravstveno osiguranje | H118: =LEFT(F118,1) -> 3 | I118: =LEFT(F118,2) -> 31 | J118: 0 | K118: 3800 | L118: 3500 | M118: =L118 -> 3500 | N118: =M118 -> 3500
A119: 18055 | B119: 18055036 | C119: ASISTENT U NASTAVI | D119: 561 | E119: 44 | F119: 32 | G119: Materijalni rashodi (izvršenje 2025. – razina skupine) | H119: =LEFT(F119,1) -> 3 | I119: =LEFT(F119,2) -> 32 | J119: 1074.01 | K119: 0 | L119: 0 | M119: =L119 -> 0 | N119: =M119 -> 0
A120: 18055 | B120: 18055036 | C120: ASISTENT U NASTAVI | D120: 561 | E120: 44 | F120: 32111 | G120: Dnevnice za službeni put u zemlji | H120: =LEFT(F120,1) -> 3 | I120: =LEFT(F120,2) -> 32 | J120: 0 | K120: 220 | L120: 250 | M120: =L120 -> 250 | N120: =M120 -> 250
A121: 18055 | B121: 18055036 | C121: ASISTENT U NASTAVI | D121: 561 | E121: 44 | F121: 32121 | G121: naknade za prjievoz na posao i s posla | H121: =LEFT(F121,1) -> 3 | I121: =LEFT(F121,2) -> 32 | J121: 0 | K121: 1000 | L121: 1000 | M121: =L121 -> 1000 | N121: =M121 -> 1000
A122: 18055 | B122: 18055039 | C122: NABAVA ŠKOLSKIH UDŽBENIKA | D122: 5011 | E122: 55 | F122: 42 | G122: Rashodi za nabavu proizvedene dugotrajne imovine (izvršenje 2025. – razina skupine) | H122: =LEFT(F122,1) -> 4 | I122: =LEFT(F122,2) -> 42 | J122: 20334.51 | K122: 0 | L122: 0 | M122: =L122 -> 0 | N122: =M122 -> 0
A123: 18055 | B123: 18055039 | C123: NABAVA ŠKOLSKIH UDŽBENIKA | D123: 5011 | E123: 55 | F123: 42411 | G123: Knjige u knjižnici | H123: =LEFT(F123,1) -> 4 | I123: =LEFT(F123,2) -> 42 | J123: 0 | K123: 21000 | L123: 22000 | M123: =L123 -> 22000 | N123: =M123 -> 22000
A124: 18055 | B124: 18055040 | C124: SHEMA ŠKOLSKOG VOĆA | D124: 565 | E124: 42 | F124: 32 | G124: Materijalni rashodi (izvršenje 2025. – razina skupine) | H124: =LEFT(F124,1) -> 3 | I124: =LEFT(F124,2) -> 32 | J124: 120 | K124: 0 | L124: 0 | M124: =L124 -> 0 | N124: =M124 -> 0
A125: 18055 | B125: 18055040 | C125: SHEMA ŠKOLSKOG VOĆA | D125: 565 | E125: 44 | F125: 32 | G125: Materijalni rashodi (izvršenje 2025. – razina skupine) | H125: =LEFT(F125,1) -> 3 | I125: =LEFT(F125,2) -> 32 | J125: 1700 | K125: 0 | L125: 0 | M125: =L125 -> 0 | N125: =M125 -> 0
... A130: 18055 | B130: 18055043 | C130: PREHRANA ZA UČENIKE U OSNOVNIM ŠKOLAMA | D130: 11 | E130: 11 | F130: 37 | G130: Naknade građanima i kućanstvima na temelju osiguranja i druge naknade (izvršenje 2025. – razina skupine) | H130: =LEFT(F130,1) -> 3 | I130: =LEFT(F130,2) -> 37 | J130: 1800 | K130: 0 | L130: 0 | M130: =L130 -> 0 | N130: =M130 -> 0
A131: 18055 | B131: 18055043 | C131: PREHRANA ZA UČENIKE U OSNOVNIM ŠKOLAMA | D131: 11 | F131: 37224 | G131: Prehrana | H131: =LEFT(F131,1) -> 3 | I131: =LEFT(F131,2) -> 37 | J131: 0 | K131: 0 | L131: 17000 | M131: =L131 -> 17000 | N131: =M131 -> 17000
A132: 18055 | B132: 18055043 | C132: PREHRANA ZA UČENIKE U OSNOVNIM ŠKOLAMA | D132: 11 | E132: 11 | F132: 42 | G132: Rashodi za nabavu proizvedene dugotrajne imovine (izvršenje 2025. – razina skupine) | H132: =LEFT(F132,1) -> 4 | I132: =LEFT(F132,2) -> 42 | J132: 9600 | K132: 0 | L132: 0 | M132: =L132 -> 0 | N132: =M132 -> 0
A133: 18055 | B133: 18055043 | C133: PREHRANA ZA UČENIKE U OSNOVNIM ŠKOLAMA | D133: 5011 | E133: 55 | F133: 32 | G133: Materijalni rashodi (izvršenje 2025. – razina skupine) | H133: =LEFT(F133,1) -> 3 | I133: =LEFT(F133,2) -> 32 | J133: 57407.34 | K133: 0 | L133: 0 | M133: =L133 -> 0 | N133: =M133 -> 0
A134: 18055 | B134: 18055043 | C134: PREHRANA ZA UČENIKE U OSNOVNIM ŠKOLAMA | D134: 5011 | E134: 55 | F134: 32224 | G134: Namirnice | H134: =LEFT(F134,1) -> 3 | I134: =LEFT(F134,2) -> 32 | J134: 0 | K134: 90000 | L134: 92000 | M134: =L134 -> 92000 | N134: =M134 -> 92000
A135: 18056 | B135: 18056002 | C135: ŠKOLSKA OPREMA | D135: 5011 | E135: 31 | F135: 42 | G135: Rashodi za nabavu proizvedene dugotrajne imovine (izvršenje 2025. – razina skupine) | H135: =LEFT(F135,1) -> 4 | I135: =LEFT(F135,2) -> 42 | J135: 5970 | K135: 0 | L135: 0 | M135: =L135 -> 0 | N135: =M135 -> 0
A136: 18056 | B136: 18056002 | C136: ŠKOLSKA OPREMA | D136: 5011 | E136: 31 | F136: 42211 | G136: Računala i računalna oprema | H136: =LEFT(F136,1) -> 4 | I136: =LEFT(F136,2) -> 42 | J136: 0 | K136: 1970 | L136: 2000 | M136: =L136 -> 2000 | N136: =M136 -> 2000
A137: 18056 | B137: 18056002 | C137: ŠKOLSKA OPREMA | D137: 5011 | E137: 31 | F137: 42212 | G137: Uredski namještaj | H137: =LEFT(F137,1) -> 4 | I137: =LEFT(F137,2) -> 42 | J137: 0 | K137: 2000 | L137: 2000 | M137: =L137 -> 2000 | N137: =M137 -> 2000
A138: 18056 | B138: 18056002 | C138: ŠKOLSKA OPREMA | D138: 5011 | F138: 42219 | G138: ostala uredska oprema | H138: =LEFT(F138,1) -> 4 | I138: =LEFT(F138,2) -> 42 | J138: 0 | K138: 0 | L138: 1970 | M138: =L138 -> 1970 | N138: =M138 -> 1970
A139: 18056 | B139: 18056002 | C139: ŠKOLSKA OPREMA | D139: 5011 | E139: 31 | F139: 42411 | G139: Knjige u knjižnici | H139: =LEFT(F139,1) -> 4 | I139: =LEFT(F139,2) -> 42 | J139: 0 | K139: 2000 | L139: 0 | M139: =L139 -> 0 | N139: =M139 -> 0
A140: 18057 | B140: 18057 | C140: KAPITALNO ULAGANJE U ŠKOLSTVO – IZNAD MINIMALNOG FINANCIJSKOG STANDARDA | D140: 11 | E140: 11 | F140: 42231 | G140: Oprema za grijanje ventilaciju i hlađenje | H140: =LEFT(F140,1) -> 4 | I140: =LEFT(F140,2) -> 42 | J140: 0 | K140: 140000 | L140: 250000 | M140: 0 | N140: 0
G141: UKUPNO | J141: =SUM(J4:J140) -> 1714116 | K141: =SUM(K4:K140) -> 1973470 | L141: =SUM(L4:L140) -> 2120850 | M141: =SUM(M4:M140) -> 1870850 | N141: =SUM(N4:N140) -> 1870850
